BEGIN:VCALENDAR
VERSION:2.0
PRODID:-//The Stockey Centre - ECPv6.15.20//NONSGML v1.0//EN
CALSCALE:GREGORIAN
METHOD:PUBLISH
X-WR-CALNAME:The Stockey Centre
X-ORIGINAL-URL:https://stockeycentre.com
X-WR-CALDESC:Events for The Stockey Centre
REFRESH-INTERVAL;VALUE=DURATION:PT1H
X-Robots-Tag:noindex
X-PUBLISHED-TTL:PT1H
BEGIN:VTIMEZONE
TZID:America/Toronto
BEGIN:DAYLIGHT
TZOFFSETFROM:-0500
TZOFFSETTO:-0400
TZNAME:EDT
DTSTART:20220313T070000
END:DAYLIGHT
BEGIN:STANDARD
TZOFFSETFROM:-0400
TZOFFSETTO:-0500
TZNAME:EST
DTSTART:20221106T060000
END:STANDARD
BEGIN:DAYLIGHT
TZOFFSETFROM:-0500
TZOFFSETTO:-0400
TZNAME:EDT
DTSTART:20230312T070000
END:DAYLIGHT
BEGIN:STANDARD
TZOFFSETFROM:-0400
TZOFFSETTO:-0500
TZNAME:EST
DTSTART:20231105T060000
END:STANDARD
BEGIN:DAYLIGHT
TZOFFSETFROM:-0500
TZOFFSETTO:-0400
TZNAME:EDT
DTSTART:20240310T070000
END:DAYLIGHT
BEGIN:STANDARD
TZOFFSETFROM:-0400
TZOFFSETTO:-0500
TZNAME:EST
DTSTART:20241103T060000
END:STANDARD
END:VTIMEZONE
BEGIN:VEVENT
DTSTART;TZID=America/Toronto:20230922T193000
DTEND;TZID=America/Toronto:20230922T193000
DTSTAMP:20260424T075615
CREATED:20230518T150004Z
LAST-MODIFIED:20230518T150006Z
UID:5693-1695411000-1695411000@stockeycentre.com
SUMMARY:Tommy Youngsteen - Fleetwood Mac "Rumours"
DESCRIPTION:“All-star Toronto supergroup Tommy Youngsteen returns to The Stockey Centre Performing Fleetwood Mac’s 1977 classic album “Rumours” along with all their Greatest Hits\, featuring an 8 piece band! Tommy Youngsteen features members & alum from Juno winning bands Stars\, The Arkells\, Sam Roberts Band\, The Trews\, July Talk\, Lowest of The Low & Serena Ryder Band.” \n\n\n\nTickets are $57.50 each. \n\n\n\n\n\n\n\n\nBUY TICKETS ONLINE HERE \n\n\n\nTickets can also be purchased during our business hours by calling our Box Office at 705-746-4466 extension 405 or visiting us at 2 Bay Street\, Parry Sound.
URL:https://stockeycentre.com/event/tommy-youngsteen-fleetwood-mac-rumours/
LOCATION:The Stockey Centre\, 2 Bay Street\, Parry Sound\, Ontario\, P2A 1S3\, Canada
CATEGORIES:Tribute Show
ATTACH;FMTTYPE=image/png:https://stockeycentre.com/wp-content/uploads/2023/05/Youngsteen_Stockey-main-page-.png
END:VEVENT
BEGIN:VEVENT
DTSTART;TZID=America/Toronto:20230925T190000
DTEND;TZID=America/Toronto:20230925T190000
DTSTAMP:20260424T075615
CREATED:20230603T150000Z
LAST-MODIFIED:20230607T144907Z
UID:5760-1695668400-1695668400@stockeycentre.com
SUMMARY:Relive the Music 50s & 60s Rock n Roll SHOW
DESCRIPTION:“50s & 60s Jukebox Musical Concert with a Broadway feel with Band\, Singers\, Dancing\, Tributes\, Video and Trivia”  A one of a kind show that takes the audience through Music History\, Trivia & Memories. \n\n\n\n***58 STANDING OVATIONS in a row***Sold out Shows***Grandma wants to party after watching this show***   \n\n\n\nMillennials buy tickets to this show for your parents and grandparents. They will have a blast with memories.   \n\n\n\nA one of a kind show that takes the audience through Music History\, Trivia & Memories of the 50s & 60s. You will learn many things you never knew about these artists. You will see an energetic band\, amazing frontline singers and dancers transforming and re-living through two decades of music\, costumes\, trends and dancing along with informative video imagery in the background.  \n\n\n\n\n\n\n\n\nPerforming HITS from Roy Orbison\,  Johnny Cash\, Frank Sinatra\, Doris Day\, Patti Page\, Dean Martin\, Fats Domino\, Little Richard\, The Rolling Stones\, Steppenwolf\, Led Zeppelin\, The Platters\, Bill Haley and the Comets\, Elvis\, Paul Anka\, Patsy Cline\, Jerry Lee Lewis\, Ritchie Valens\, Buddy Holly\, Ricky Nelson\, Chuck Berry\, Connie Francis\, The Beach Boys\, Chubby Checker\, Dion\, The Chordettes\, Nat King Cole\, Aretha Franklin\, The Four Seasons\, The Beatles\, The Temptations\, The Supremes\, The Rolling Stones\, Sonny and Cher\, The Shirelles\, The Righteous Brothers\, The Marvelettes\, The Angles\, Nancy Sinatra\, The Ronettes\, The Ventures\, Tina Turner\, Neil Diamond\, and more…. \n\n\n\nThe audience will see silhouettes of a band onstage\, video will roll in the background with the big voice guy narrator describing trivia about the upcoming artist or song without mentioning the names.  There will be a pause. The audience is encouraged to shout out their guess of what song is coming up.  Let the party begin. \n\n\n\nWe sorted through 20 years of over a thousand songs into one show. The main criteria was to trim it to hit songs that are still relevant and memorable to this day. We made our pick of songs that we feel will never get old. \n\n\n\n“Relive The Music 50’s & 60’s Show” features and uses a rotating team of cast members \n\n\n\nSee more www.ReliveTheMusic.ca \n\n\n\nTickets are $60 each. \n\n\n\nBUY TICKETS ONLINE HERE \n\n\n\nTickets can also be purchased during our business hours by calling our Box Office at 705-746-4466 extension 405 or visiting us at 2 Bay Street\, Parry Sound.
URL:https://stockeycentre.com/event/relive-the-music-50s-60s-rock-n-roll-show/
LOCATION:The Stockey Centre\, 2 Bay Street\, Parry Sound\, Ontario\, P2A 1S3\, Canada
CATEGORIES:Tribute Show
ATTACH;FMTTYPE=image/jpeg:https://stockeycentre.com/wp-content/uploads/2023/05/11X17-Relive-poster-Grandma-wants-to-party-RGB-scaled.jpg
END:VEVENT
END:VCALENDAR