BEGIN:VCALENDAR
VERSION:2.0
PRODID:-//The Stockey Centre - ECPv6.15.20//NONSGML v1.0//EN
CALSCALE:GREGORIAN
METHOD:PUBLISH
X-ORIGINAL-URL:https://stockeycentre.com
X-WR-CALDESC:Events for The Stockey Centre
REFRESH-INTERVAL;VALUE=DURATION:PT1H
X-Robots-Tag:noindex
X-PUBLISHED-TTL:PT1H
BEGIN:VTIMEZONE
TZID:America/Toronto
BEGIN:DAYLIGHT
TZOFFSETFROM:-0500
TZOFFSETTO:-0400
TZNAME:EDT
DTSTART:20230312T070000
END:DAYLIGHT
BEGIN:STANDARD
TZOFFSETFROM:-0400
TZOFFSETTO:-0500
TZNAME:EST
DTSTART:20231105T060000
END:STANDARD
BEGIN:DAYLIGHT
TZOFFSETFROM:-0500
TZOFFSETTO:-0400
TZNAME:EDT
DTSTART:20240310T070000
END:DAYLIGHT
BEGIN:STANDARD
TZOFFSETFROM:-0400
TZOFFSETTO:-0500
TZNAME:EST
DTSTART:20241103T060000
END:STANDARD
BEGIN:DAYLIGHT
TZOFFSETFROM:-0500
TZOFFSETTO:-0400
TZNAME:EDT
DTSTART:20250309T070000
END:DAYLIGHT
BEGIN:STANDARD
TZOFFSETFROM:-0400
TZOFFSETTO:-0500
TZNAME:EST
DTSTART:20251102T060000
END:STANDARD
END:VTIMEZONE
BEGIN:VEVENT
DTSTART;TZID=America/Toronto:20240419T200000
DTEND;TZID=America/Toronto:20240419T200000
DTSTAMP:20260425T072000
CREATED:20231214T160000Z
LAST-MODIFIED:20231213T200019Z
UID:6351-1713556800-1713556800@stockeycentre.com
SUMMARY:Epic Live Concerts presents Country Stars
DESCRIPTION:The Country Stars Tribute show is designed to honour the extraordinary musical legacies of the genres biggest names. Renowned musicians will step into the shoes of these legendary artists and deliver unforgettable performances that pay homage to chart topping songs\, with captivating stage presence. The Country Stars show promises to be a night of memories for country music enthusiasts and fans of The Chicks\, Tim McGraw\, and Faith Hill. The theatre venue provides the perfect backdrop for an intimate and immersive evening \, where you can sing along \, tap your feet\, dance\, and enjoy the music of these beloved country stars. \n\n\n\nTickets are $38.95 + HST each. \n\n\n\nBUY TICKETS ONLINE HERE \n\n\n\nTickets can also be purchased during our business hours by calling our Box Office at 705-746-4466 extension 405 or visiting us at 2 Bay Street\, Parry Sound.
URL:https://stockeycentre.com/event/country-stars/
LOCATION:The Stockey Centre\, 2 Bay Street\, Parry Sound\, Ontario\, P2A 1S3\, Canada
CATEGORIES:Tribute Show
ATTACH;FMTTYPE=image/jpeg:https://stockeycentre.com/wp-content/uploads/2023/12/thumbnail_country-stars-parry-sound-1.jpg
END:VEVENT
END:VCALENDAR