BEGIN:VCALENDAR
VERSION:2.0
PRODID:-//The Stockey Centre - ECPv6.15.20//NONSGML v1.0//EN
CALSCALE:GREGORIAN
METHOD:PUBLISH
X-ORIGINAL-URL:https://stockeycentre.com
X-WR-CALDESC:Events for The Stockey Centre
REFRESH-INTERVAL;VALUE=DURATION:PT1H
X-Robots-Tag:noindex
X-PUBLISHED-TTL:PT1H
BEGIN:VTIMEZONE
TZID:America/Toronto
BEGIN:DAYLIGHT
TZOFFSETFROM:-0500
TZOFFSETTO:-0400
TZNAME:EDT
DTSTART:20230312T070000
END:DAYLIGHT
BEGIN:STANDARD
TZOFFSETFROM:-0400
TZOFFSETTO:-0500
TZNAME:EST
DTSTART:20231105T060000
END:STANDARD
BEGIN:DAYLIGHT
TZOFFSETFROM:-0500
TZOFFSETTO:-0400
TZNAME:EDT
DTSTART:20240310T070000
END:DAYLIGHT
BEGIN:STANDARD
TZOFFSETFROM:-0400
TZOFFSETTO:-0500
TZNAME:EST
DTSTART:20241103T060000
END:STANDARD
BEGIN:DAYLIGHT
TZOFFSETFROM:-0500
TZOFFSETTO:-0400
TZNAME:EDT
DTSTART:20250309T070000
END:DAYLIGHT
BEGIN:STANDARD
TZOFFSETFROM:-0400
TZOFFSETTO:-0500
TZNAME:EST
DTSTART:20251102T060000
END:STANDARD
END:VTIMEZONE
BEGIN:VEVENT
DTSTART;TZID=America/Toronto:20240913T200000
DTEND;TZID=America/Toronto:20240913T200000
DTSTAMP:20260423T003141
CREATED:20240110T160000Z
LAST-MODIFIED:20240201T191259Z
UID:6369-1726257600-1726257600@stockeycentre.com
SUMMARY:The Traveling Milburys
DESCRIPTION:The Worlds Greatest Tribute To The Traveling Wilburys! \n\n\n\nDon’t miss this spectacular salute to the supergroup of all supergroups; The Traveling Wilburys: George Harrison\, Tom Petty\, Roy Orbison\, Jeff Lynne and Bob Dylan. \n\n\n\nThe Traveling Milburys deliver the goods in an evening filled with thrilling lights\, sound\, video and audience participation. An authentic recreation of The Traveling Wilburys right down to the outfits and instruments. Enjoy all the hits of The Wilburys PLUS classics from each individual artist including George Harrison (The Beatles)\, Jeff Lynne (Electric Light Orchestra)\, and Tom Petty (The Heartbreakers)!Performing to celebrations of sold-out audiences across North America\, here’s your chance to experience The World’s Greatest Tribute To The Traveling Wilburys LIVE and in concert. \n\n\n\nTickets are $50.95 + HST each. \n\n\n\nBUY TICKETS ONLINE HERE \n\n\n\nTickets can also be purchased during our business hours by calling our Box Office at 705-746-4466 extension 405 or visiting us at 2 Bay Street\, Parry Sound.
URL:https://stockeycentre.com/event/the-traveling-milburys/
LOCATION:The Stockey Centre\, 2 Bay Street\, Parry Sound\, Ontario\, P2A 1S3\, Canada
CATEGORIES:Tribute Show
ATTACH;FMTTYPE=image/jpeg:https://stockeycentre.com/wp-content/uploads/2024/01/316800841_170317062313558_7234433749792110400_n.jpg
END:VEVENT
BEGIN:VEVENT
DTSTART;TZID=America/Toronto:20240920T193000
DTEND;TZID=America/Toronto:20240920T193000
DTSTAMP:20260423T003141
CREATED:20240425T150000Z
LAST-MODIFIED:20240424T192851Z
UID:6692-1726860600-1726860600@stockeycentre.com
SUMMARY:Classic Seger: Bob Seger's Greatest Hits Live
DESCRIPTION:Hollywood Nights 2024 North American Tour \n\n\n\nThrilling audiences across North America\, Classic Seger brings the energy\, excitement\, and raw power of a vintage Bob Seger concert to the stage\, leaving fans singing\, dancing\, and screaming for more! Classic Seger is a world-class tribute act\, performing masterful renditions of Bob Seger and the Silver Bullet Band’s greatest hits featuring songs like Night Moves\, Turn the Page\, Against the Wind\, Old Time Rock & Roll\, and many more all-time favorites. Guaranteed to be a show that rock and roll fans will never forget! \n\n\n\nTickets are $47.95 + HST. \n\n\n\nBUY TICKETS ONLINE HERE \n\n\n\nTickets can also be purchased during our business hours by calling our Box Office at 705-746-4466 extension 405 or visiting us at 2 Bay Street\, Parry Sound.
URL:https://stockeycentre.com/event/classic-seger/
LOCATION:The Stockey Centre\, 2 Bay Street\, Parry Sound\, Ontario\, P2A 1S3\, Canada
CATEGORIES:Tribute Show
ATTACH;FMTTYPE=image/png:https://stockeycentre.com/wp-content/uploads/2024/04/Classic-Seger_TicketMaster_2048x1152px-1.png
END:VEVENT
BEGIN:VEVENT
DTSTART;TZID=America/Toronto:20240924T193000
DTEND;TZID=America/Toronto:20240924T193000
DTSTAMP:20260423T003141
CREATED:20240217T160110Z
LAST-MODIFIED:20240822T194220Z
UID:6503-1727206200-1727206200@stockeycentre.com
SUMMARY:Relive the Music 50s & 60s Show
DESCRIPTION:QUESTION: What kind of show gets 103 standing ovations in a row so far in Canada and the USA? \n\n\n\nANSWER: This one-of-a-kind Relive the Music 50s & 60s show that takes you through music history\, trivia\, and memories from the 50s and 60s! \n\n\n\nOne of a kind – “50s and 60s JukeBox Musical Concert with a Broadway feel with Band\, Singers\, Dancers\, Tributes\, Video and Trivia” This show takes the audience through Music History\, Trivia & Memories of the 50s & 60s. \n\n\n\nIt’s like watching 40+ tribute shows in one night. Costumes changes after most songs. \n\n\n\nOne of the founding members and stars of this show is World Champion Tina Turner tribute artist Luisa Marshall\, as seen on Oprah twice and the ELLENshow! \n\n\n\nMillennials buy tickets to this show for your parents and grandparents. They will have a blast with memories. \n\n\n\nSee more www.ReliveTheMusic.ca \n\n\n\n\n\n\n\n\n\nYou will learn many things you never knew about these artists. You will see an energetic band\, amazing frontline singers and dancing transforming and re-living through two decades of music\, costumes\, trends and dancing along with informative video imagery in the background. \n\n\n\nPerforming HITS from Roy Orbison\, Johnny Cash\, Frank Sinatra\, Doris Day\, Patti Page\, Dean Martin\, Fats Domino\, Little Richard\, The Rolling Stones\, Steppenwolf\, Led Zeppelin\, The Platters\, Bill Haley and the Comets\, Elvis\, Paul Anka\, Patsy Cline\, Jerry Lee Lewis\, Ritchie Valens\, Buddy Holly\, Ricky Nelson\, Chuck Berry\, Connie Francis\, The Beach Boys\, Chubby Checker\, Dion\, The Chordettes\, Nat King Cole\, Aretha Franklin\, The Four Seasons\, The Beatles\, The Temptations\, The Supremes\, The Rolling Stones\, Sonny and Cher\, The Shirelles\, The Righteous Brothers\, The Marvelettes\, The Angels\, Nancy Sinatra\, The Ronettes\, The Ventures\, Tina Turner\, Neil Diamond\, and more…. \n\n\n\nTickets are $69 each. \n\n\n\nBUY TICKETS ONLINE HERE \n\n\n\nTickets can also be purchased during our business hours by calling our Box Office at 705-746-4466 extension 405 or visiting us at 2 Bay Street\, Parry Sound.
URL:https://stockeycentre.com/event/relive-the-music-50s-60s-show/
LOCATION:The Stockey Centre\, 2 Bay Street\, Parry Sound\, Ontario\, P2A 1S3\, Canada
CATEGORIES:Tribute Show
ATTACH;FMTTYPE=image/jpeg:https://stockeycentre.com/wp-content/uploads/2024/02/993-x-580-Relive-copy.jpg
END:VEVENT
BEGIN:VEVENT
DTSTART;TZID=America/Toronto:20240928T193000
DTEND;TZID=America/Toronto:20240928T193000
DTSTAMP:20260423T003141
CREATED:20231130T170000Z
LAST-MODIFIED:20240111T180130Z
UID:6269-1727551800-1727551800@stockeycentre.com
SUMMARY:We Walk The Line: A Tribute to Johnny Cash
DESCRIPTION:This hit after hit show is a true Johnny Cash experience that celebrates the music and life of ‘The Man In Black’ and his fun-loving wife\, June Carter. This concert covers the entire career of Johnny Cash from the 1950s at Sun Records to 2003 with the American Recordings label and includes Johnny’s biggest hits Ring of Fire\, Boy Named Sue\, I Walk The Line\, Folsom Prison Blues\, Hurt and the famous duet Jackson sung with June Carter amongst many other classic songs. \n\n\n\nThe concert performance features Ward Cornforth as a 1960’s era Johnny Cash and includes duets performed with Johnny’s life-long partner June Carter. Ward Cornforth and his band accurately recreate Cash’s biggest hits with the distinctive sound of Cash’s signature backing band\, The Tennessee Three. \n\n\n\nThe show is a fun\, toe-tapping trip down memory lane. Ward incorporates historical accounts and personal anecdotes about the Country Legend and American Poet\, who left his mark upon many millions of fans\, in this not-to-be-missed musical event. \n\n\n\nTickets are $48.95 + HST. \n\n\n\nBUY TICKETS ONLINE HERE \n\n\n\nTickets can also be purchased during our business hours by calling our Box Office at 705-746-4466 extension 405 or visiting us at 2 Bay Street\, Parry Sound.
URL:https://stockeycentre.com/event/we-walk-the-line-a-tribute-to-johnny-cash-2/
LOCATION:The Stockey Centre\, 2 Bay Street\, Parry Sound\, Ontario\, P2A 1S3\, Canada
CATEGORIES:Tribute Show
ATTACH;FMTTYPE=image/jpeg:https://stockeycentre.com/wp-content/uploads/2023/11/WWTL-Banner-Kingston.jpeg
END:VEVENT
END:VCALENDAR