BEGIN:VCALENDAR
VERSION:2.0
PRODID:-//The Stockey Centre - ECPv6.15.20//NONSGML v1.0//EN
CALSCALE:GREGORIAN
METHOD:PUBLISH
X-ORIGINAL-URL:https://stockeycentre.com
X-WR-CALDESC:Events for The Stockey Centre
REFRESH-INTERVAL;VALUE=DURATION:PT1H
X-Robots-Tag:noindex
X-PUBLISHED-TTL:PT1H
BEGIN:VTIMEZONE
TZID:America/Toronto
BEGIN:DAYLIGHT
TZOFFSETFROM:-0500
TZOFFSETTO:-0400
TZNAME:EDT
DTSTART:20240310T070000
END:DAYLIGHT
BEGIN:STANDARD
TZOFFSETFROM:-0400
TZOFFSETTO:-0500
TZNAME:EST
DTSTART:20241103T060000
END:STANDARD
BEGIN:DAYLIGHT
TZOFFSETFROM:-0500
TZOFFSETTO:-0400
TZNAME:EDT
DTSTART:20250309T070000
END:DAYLIGHT
BEGIN:STANDARD
TZOFFSETFROM:-0400
TZOFFSETTO:-0500
TZNAME:EST
DTSTART:20251102T060000
END:STANDARD
BEGIN:DAYLIGHT
TZOFFSETFROM:-0500
TZOFFSETTO:-0400
TZNAME:EDT
DTSTART:20260308T070000
END:DAYLIGHT
BEGIN:STANDARD
TZOFFSETFROM:-0400
TZOFFSETTO:-0500
TZNAME:EST
DTSTART:20261101T060000
END:STANDARD
BEGIN:DAYLIGHT
TZOFFSETFROM:-0500
TZOFFSETTO:-0400
TZNAME:EDT
DTSTART:20270314T070000
END:DAYLIGHT
BEGIN:STANDARD
TZOFFSETFROM:-0400
TZOFFSETTO:-0500
TZNAME:EST
DTSTART:20271107T060000
END:STANDARD
END:VTIMEZONE
BEGIN:VEVENT
DTSTART;TZID=America/Toronto:20251107T190000
DTEND;TZID=America/Toronto:20251107T190000
DTSTAMP:20260425T232817
CREATED:20250910T150000Z
LAST-MODIFIED:20251002T191330Z
UID:8469-1762542000-1762542000@stockeycentre.com
SUMMARY:UK Calling - The Best of British New Wave
DESCRIPTION:After a string of sold-out shows in 2024 and early 2025\, UK Calling are bringing their high-energy\, era-defining show from the late 70s through the 80s to Parry Sound for the very first time! \n\n\n\nCatch them Friday\, November 7\, at the Stockey Centre for a night of bold\, unmistakably British sound. From Tears for Fears to Simple Minds\, Spandau Ballet to The Style Council\, Bronski Beat\, and yes—The Cure—UK Calling brings the deep cuts and iconic tracks that most bands won’t even attempt. \n\n\n\nUK Calling is best known for delivering energetic\, fully live performances—no backing tracks\, just committed\, authentic musicianship. Their shows are dynamic\, sweat-soaked\, and dance-floor-driven – immerse yourself in a live show driven by real musicians\, tight arrangements\, and full-on intensity. \n\n\n\nWhat sets this band apart? It’s not just the songs—it’s the show. This seven-piece powerhouse\, complete with a full horn section\, brings unmatched energy to the stage. No gimmicks\, no throwaway synths—just top-tier musicianship and a passion for the music that defined a generation. \n\n\n\n\n\n\n\n\nYou’ll hear the best of Tears for Fears\, Joy Division\, Madness\, and more. Whether you’re a lifelong fan of the genre or discovering it for the first time\, you’ll be swept up by the band’s immersive sound and the standout voice of frontman Peter James Fox—a world-class tenor with serious presence. \n\n\n\n“Just like the old CFNY.” \n\n\n\nUK Calling is Canada’s premier ’80s alternative tribute—focused squarely on New Wave\, 2 Tone Ska\, and Post-Punk from the UK’s golden era. You won’t find Bon Jovi or Madonna here—but if The Smiths\, The Specials\, and the early edges of synth-pop are your thing\, this is your show. \n\n\n\nUK Calling has been selling out venues and keeping Ontario dance floors packed since 2018. Don’t miss your chance to experience them live. \n\n\n\nTickets are $44.95 each. This event is general seating\, seats are first come\, first served upon arrival to the event. \n\n\n\nBUY TICKETS ONLINE HERE \n\n\n\nAlternatively\, tickets can also be purchased during our business hours by calling our Box Office staff at 705-746-4466 extension 405 or visiting us at 2 Bay Street\, Parry Sound. Visit our Box Office FAQs & Hours page for more information on our tickets\, fees\, and visits to our facility.
URL:https://stockeycentre.com/event/uk-calling/
LOCATION:The Stockey Centre\, 2 Bay Street\, Parry Sound\, Ontario\, P2A 1S3\, Canada
CATEGORIES:Concert,Tribute Show
ATTACH;FMTTYPE=image/jpeg:https://stockeycentre.com/wp-content/uploads/2025/09/UKC.Landscape.Stockey.jpg
END:VEVENT
BEGIN:VEVENT
DTSTART;TZID=America/Toronto:20251108T193000
DTEND;TZID=America/Toronto:20251108T193000
DTSTAMP:20260425T232817
CREATED:20241207T160000Z
LAST-MODIFIED:20250703T164050Z
UID:7419-1762630200-1762630200@stockeycentre.com
SUMMARY:The Worlds Greatest Tribute To The Traveling Wilburys! Featuring The Traveling Milburys
DESCRIPTION:The Worlds Greatest Tribute To The Traveling Wilburys! \n\n\n\nDon’t miss this spectacular salute to the supergroup of all supergroups; The Traveling Wilburys: George Harrison\, Tom Petty\, Roy Orbison\, Jeff Lynne and Bob Dylan.The Traveling Milburys deliver the goods in an evening filled with thrilling lights\, sound\, video and audience participation. An authentic recreation of The Traveling Wilburys right down to the outfits and instruments. Enjoy all the hits of The Wilburys PLUS classics from each individual artist including George Harrison (The Beatles)\, Jeff Lynne (Electric Light Orchestra)\, and Tom Petty (The Heartbreakers)!Performing to celebrations of sold-out audiences across North America\, here’s your chance to experience The World’s Greatest Tribute To The Traveling Wilburys LIVE and in concert. \n\n\n\nTickets are $65.50 each. \n\n\n\n\n\n\n\n\n\nBUY TICKETS ONLINE HERE \n\n\n\nTickets can also be purchased during our business hours by calling our Box Office at 705-746-4466 extension 405 or visiting us at 2 Bay Street\, Parry Sound.
URL:https://stockeycentre.com/event/the-traveling-milburys-2025/
LOCATION:The Stockey Centre\, 2 Bay Street\, Parry Sound\, Ontario\, P2A 1S3\, Canada
CATEGORIES:Tribute Show
ATTACH;FMTTYPE=image/jpeg:https://stockeycentre.com/wp-content/uploads/2024/12/Ticketing-Page_TRAVELING-MILBURYS.jpg
END:VEVENT
BEGIN:VEVENT
DTSTART;TZID=America/Toronto:20251114T200000
DTEND;TZID=America/Toronto:20251114T200000
DTSTAMP:20260425T232817
CREATED:20250312T145930Z
LAST-MODIFIED:20250703T164123Z
UID:7707-1763150400-1763150400@stockeycentre.com
SUMMARY:Tommy Youngsteen- Fleetwood Mac “Rumours” + All their Greatest Hits 
DESCRIPTION:Tickets to this event go on-sale on Friday May 16th at 11am. \n\n\n\nTommy Youngsteen- Fleetwood Mac “Rumours” + All their Greatest Hits  \n\n\n\nTommy Youngsteen returns to Parry Sound ON – performing Fleetwood Mac’s 1977 classic album “Rumours” along with all their Greatest Hits LIVE at The Stockey Centre \n\n\n\nCatch Rock n Roll Hall of Famers & Grammy winners\, Fleetwood Mac’s classic album “Rumours” performed by an 8 piece all-star band – featuring hits like “Go Your Own Way” ‘The Chain” “Don’t Stop” “Dreams” ” Landslide” & many more! \n\n\n\nTommy Youngsteen is a Toronto based supergroup featuring members & alum from Juno winning bands – Stars\, The Arkells\, Sam Roberts Band\, The Trews\, Lowest of The Low\, July Talk\, Serena Ryder Band along with some of the country’s top touring & session musicians. \n\n\n\nTickets are $62.50 each. \n\n\n\nBUY TICKETS ONLINE HERE \n\n\n\nTickets can also be purchased during our business hours by calling our Box Office at 705-746-4466 extension 405 or visiting us at 2 Bay Street\, Parry Sound.
URL:https://stockeycentre.com/event/tommy-youngsteen-fleetwood-mac-rumours-all-their-greatest-hits/
LOCATION:The Stockey Centre\, 2 Bay Street\, Parry Sound\, Ontario\, P2A 1S3\, Canada
CATEGORIES:Concert,Tribute Show
ATTACH;FMTTYPE=image/png:https://stockeycentre.com/wp-content/uploads/2025/03/Stockey-Art.png
END:VEVENT
BEGIN:VEVENT
DTSTART;TZID=America/Toronto:20251115T193000
DTEND;TZID=America/Toronto:20251115T193000
DTSTAMP:20260425T232817
CREATED:20250516T150000Z
LAST-MODIFIED:20250703T164216Z
UID:7676-1763235000-1763235000@stockeycentre.com
SUMMARY:HELLS BELLS - Celebrating the Music of AC/DC
DESCRIPTION:Since their electrifying inception in 1994 in the heart of Toronto\, Hells Bells has soared to become the world’s longest-touring tribute to the legendary AC/DC\, lighting up stages across North America with unstoppable passion and excitement. Don’t miss your chance to experience Hells Bells—a tribute that not only honours but revives the spirit of AC/DC. Join us for a night where the music is contagious\, and the memories are unforgettable.  \n\n\n\nAll Ages! Family friendly! Get ready to rock like never before! \n\n\n\nTickets are $56.69 each. \n\n\n\nBUY TICKETS ONLINE HERE \n\n\n\nTickets can also be purchased during our business hours by calling our Box Office at 705-746-4466 extension 405 or visiting us at 2 Bay Street\, Parry Sound.
URL:https://stockeycentre.com/event/hells-bells-celebrating-the-music-of-ac-dc-2/
LOCATION:The Stockey Centre\, 2 Bay Street\, Parry Sound\, Ontario\, P2A 1S3\, Canada
CATEGORIES:Concert,Tribute Show
ATTACH;FMTTYPE=image/jpeg:https://stockeycentre.com/wp-content/uploads/2025/03/1920-X-1080-1.jpg
END:VEVENT
BEGIN:VEVENT
DTSTART;TZID=America/Toronto:20251211T200000
DTEND;TZID=America/Toronto:20251211T200000
DTSTAMP:20260425T232817
CREATED:20250903T150000Z
LAST-MODIFIED:20251129T172449Z
UID:8393-1765483200-1765483200@stockeycentre.com
SUMMARY:A Merry Elvis Christmas
DESCRIPTION:A Merry Elvis Christmas \n\n\n\nExperience the magic of the holidays with A Merry Elvis Christmas — a heartfelt tribute to the King of Rock ‘n’ Roll. \n\n\n\nWorld-renowned Elvis tribute artist Kevin Mills\, direct from Legends in Concert and the Elvis Lives tour\, brings Elvis’s legacy to life in an unforgettable performance filled with holiday cheer and iconic hits. \n\n\n\nBacked by the dynamic Casino Brothers Show Band and hosted by comedian Victor J. Hanson\, this festive show captures the electrifying spirit of Elvis’s legendary 1970 Las Vegas performances and the soulful charm of Elvis on Tour (1973). \n\n\n\nCelebrate the season with the music\, the memories\, and the magic of Elvis  \n\n\n\nA show you won’t want to miss. \n\n\n\nHOLIDAY SALE!TICKETS TO THIS SHOW ARE NOW 20% OFF UNTIL SHOW TIME!*Please note\, previously purchased tickets to this show are not eligible for a price reduction. \n\n\n\nTickets are $50.36 + HST each with the 20% off discount. \n\n\n\nBUY TICKETS ONLINE HERE \n\n\n\nAlternatively\, tickets can also be purchased during our business hours by calling our Box Office staff at 705-746-4466 extension 405 or visiting us at 2 Bay Street\, Parry Sound. Visit our Box Office FAQs & Hours page for more information on our tickets\, fees\, and visits to our facility.
URL:https://stockeycentre.com/event/a-merry-elvis-christmas/
LOCATION:The Stockey Centre\, 2 Bay Street\, Parry Sound\, Ontario\, P2A 1S3\, Canada
CATEGORIES:Concert,Tribute Show
ATTACH;FMTTYPE=image/jpeg:https://stockeycentre.com/wp-content/uploads/2025/09/thumbnail_MERRY-ELVIS-WEB-copy.jpg
END:VEVENT
BEGIN:VEVENT
DTSTART;TZID=America/Toronto:20260130T200000
DTEND;TZID=America/Toronto:20260130T200000
DTSTAMP:20260425T232817
CREATED:20250911T150000Z
LAST-MODIFIED:20250911T142636Z
UID:8483-1769803200-1769803200@stockeycentre.com
SUMMARY:Tommy Youngsteen - The Very Best of Creedence Clearwater Revival 
DESCRIPTION:Tommy Youngsteen returns to The Stockey Centre with the very best of Rock Legends Creedence Clearwater Revival! \n\n\n\nTravel back in time to the 60’s counterculture with the music of CCR – Members of the Rock & Roll Hall of Fame along with 50 million albums sold worldwide including “Fortunate Son” “Born on the Bayou” “Proud Mary” “Have you ever seen the rain” “Bad Moon Rising” & many more. Featuring an all-star 7 piece band!   \n\n\n\nTommy Youngsteen is a Toronto-based supergroup featuring members and alum from Juno winners Stars\, The Sam Roberts Band\, The Arkells\, The Trews\, Lowest of the Low and The Serena Ryder Band. Along with some of the best session musicians from around the country. \n\n\n\nTickets are $62.50 each. \n\n\n\nBUY TICKETS ONLINE HERE \n\n\n\nAlternatively\, tickets can also be purchased during our business hours by calling our Box Office staff at 705-746-4466 extension 405 or visiting us at 2 Bay Street\, Parry Sound. Visit our Box Office FAQs & Hours page for more information on our tickets\, fees\, and visits to our facility. \n\n\n\n\nhttps://youtube.com/shorts/WIn61h9cNdc?si=MVBQ9rEeqjN64MUl
URL:https://stockeycentre.com/event/tommy-youngsteen-ccr/
LOCATION:The Stockey Centre\, 2 Bay Street\, Parry Sound\, Ontario\, P2A 1S3\, Canada
CATEGORIES:Concert,Tribute Show
ATTACH;FMTTYPE=image/png:https://stockeycentre.com/wp-content/uploads/2025/09/TY_PARRY-SOUND-CCR_BANNER.png
END:VEVENT
BEGIN:VEVENT
DTSTART;TZID=America/Toronto:20260515T193000
DTEND;TZID=America/Toronto:20260515T193000
DTSTAMP:20260425T232817
CREATED:20250814T233000Z
LAST-MODIFIED:20250814T203534Z
UID:8316-1778873400-1778873400@stockeycentre.com
SUMMARY:Hotel California
DESCRIPTION:Kick off your summer of 2026 as HOTEL CALIFORNIA\, the original Eagles tribute returns to The Stockey Centre\, Friday May 15 for a perfect start to your May long weekend. \n\n\n\nFor almost three decades\, HOTEL CALIFORNIA has been re-creating the legendary sound of THE EAGLES\, and thrilling audiences all over the world. The band set the bar in 1986 and they’ve remained the industry leading substitute for The Eagles ever since\, playing to huge outdoor and arena audiences\, sharing bills with some of rock’s legends\, and going places no tribute band has gone before. \n\n\n\nYou can count on incredible lead vocal similarity\, intensely accurate instrumental work\, soaring harmonies\, and a top flight live performance. \n\n\n\nHOTEL CALIFORNIA’s show has evolved into a masterful celebration of The Eagles’ music\, as one of the most game-changing song catalogs in the history of rock n’ roll is performed to perfection. \n\n\n\nIf you love The Eagles – you’ve just found the next-best thing. \n\n\n\nTickets are $59.50 each. \n\n\n\nBUY TICKETS ONLINE HERE \n\n\n\nAlternatively\, tickets can also be purchased during our business hours by calling our Box Office staff at 705-746-4466 extension 405 or visiting us at 2 Bay Street\, Parry Sound. Visit our Box Office FAQs & Hours page for more information on our tickets\, fees\, and visits to our facility.
URL:https://stockeycentre.com/event/hotel-california-3/
LOCATION:The Stockey Centre\, 2 Bay Street\, Parry Sound\, Ontario\, P2A 1S3\, Canada
CATEGORIES:Concert,Tribute Show
ATTACH;FMTTYPE=image/jpeg:https://stockeycentre.com/wp-content/uploads/2025/08/Hotel-California-web-image.jpg
END:VEVENT
BEGIN:VEVENT
DTSTART;TZID=America/Toronto:20260918T193000
DTEND;TZID=America/Toronto:20260918T193000
DTSTAMP:20260425T232817
CREATED:20250815T193935Z
LAST-MODIFIED:20250923T194454Z
UID:8320-1789759800-1789759800@stockeycentre.com
SUMMARY:'We Ain't Petty' & 'Let's Go': Tributes to Tom Petty & The Cars
DESCRIPTION:TWO SOLID TRIBUTES FOR THE PRICE OF ONE \n\n\n\nUNDER THE SAME ROOF! \n\n\n\nSpringtime Entertainment is proud to present ‘WE AIN’T PETTY’\, Canada’s foremost Tribute to the Rock ‘n’ Roll Hall of Fame musician and his band\, TOM PETTY AND THE HEARTBREAKERS and ‘LET’S GO!’\, a high-energy act dedicated to celebrating the legendary rock band THE CARS. \n\n\n\n‘WE AIN’T PETTY’ …. \n\n\n\nHow can we be? There was only one Tom Petty and The Heartbreakers. Since 2016 ‘WE AIN’T PETTY’ are the most sought-after live tribute to one of the world’s most recognized chart toppers. \n\n\n\nFrom ‘American Girl’ to ‘You Don’t Know How It Feels’ and ‘I Won’t Back Down’\, ‘WE AIN’T PETTY’ takes you on a hit-by-hit journey through TOM PETTY’S most prolific musical history. \n\n\n\n‘LET’S GO!’ …. \n\n\n\nNamed after their hit song ‘Let’s Go’\, this tribute captures the new wave sound\, infectious hooks\, and sleek\, synth-driven rock that made THE CARS one of the most influential bands of the late ’70s and ’80s. \n\n\n\nThis concert features international Tribute Artist BARRY DAVIS\, who delivers the distinctive vocals of renowned front man RIC OCASEK\, all backed by his band of skilled musicians who bring note for note the signature guitar riffs and synth melodies that we all immediately connect with. \n\n\n\nWith renditions of classics like ‘Just What I Needed’\, ‘My Best Friend’s Girl’\, ‘You Might Think’\, ‘Magic’\, ‘Drive’ and ‘Good Times Roll’\, ‘LET’S GO!’ a tribute to THE CARS guarantees an electrifying performance that transports audiences back to the golden era of rock. \n\n\n\nPerfect for rock fans\, ‘80s music lovers\, and anyone who wants to relive the magic of THE CARS\, ‘LET’S GO!’ is a must-see show that keeps the legacy of this iconic band alive. \n\n\n\nTickets are $56.95 each. \n\n\n\nBUY TICKETS ONLINE HERE \n\n\n\nAlternatively\, tickets can also be purchased during our business hours by calling our Box Office staff at 705-746-4466 extension 405 or visiting us at 2 Bay Street\, Parry Sound. Visit our Box Office FAQs & Hours page for more information on our tickets\, fees\, and visits to our facility.
URL:https://stockeycentre.com/event/we-aint-petty-lets-go-tributes-to-tom-petty-the-cars/
LOCATION:The Stockey Centre\, 2 Bay Street\, Parry Sound\, Ontario\, P2A 1S3\, Canada
CATEGORIES:Concert,Tribute Show
ATTACH;FMTTYPE=image/jpeg:https://stockeycentre.com/wp-content/uploads/2025/08/1080-x-1080-for-Parry-Sound-Sept.-26-2025-REVISED.jpg
END:VEVENT
BEGIN:VEVENT
DTSTART;TZID=America/Toronto:20261003T193000
DTEND;TZID=America/Toronto:20261003T193000
DTSTAMP:20260425T232817
CREATED:20251112T160000Z
LAST-MODIFIED:20251110T183124Z
UID:8721-1791055800-1791055800@stockeycentre.com
SUMMARY:We Walk The Line - Tribute to Johnny Cash
DESCRIPTION:This hit after hit show is a true Johnny Cash Experience that celebrates the music and lives of “The Man in Black” and his fun-loving wife\, June Carter. \n\n\n\nThe concert covers the entire career of Johnny Cash from the 1950’s at Sun Records to 2003 with the American Recordings label and includes Johnny’s biggest hits Ring of Fire\, Boy Named Sue\, I Walk the Line\, Folsom Prison Blues\, Hurt\, and the famous duet with June Carter\, Jackson\, amongst other classic songs. \n\n\n\nTickets are $58.00 each. \n\n\n\nBUY TICKETS ONLINE HERE \n\n\n\nAlternatively\, tickets can also be purchased during our business hours by calling our Box Office staff at 705-746-4466 extension 405 or visiting us at 2 Bay Street\, Parry Sound. Visit our Box Office FAQs & Hours page for more information on our tickets\, fees\, and visits to our facility.
URL:https://stockeycentre.com/event/we-walk-the-line-2026/
LOCATION:The Stockey Centre\, 2 Bay Street\, Parry Sound\, Ontario\, P2A 1S3\, Canada
CATEGORIES:Concert,Tribute Show
ATTACH;FMTTYPE=image/jpeg:https://stockeycentre.com/wp-content/uploads/2025/11/WWTL-Banner-Kingston.jpeg
END:VEVENT
END:VCALENDAR