BEGIN:VCALENDAR
VERSION:2.0
PRODID:-//The Stockey Centre - ECPv6.15.20//NONSGML v1.0//EN
CALSCALE:GREGORIAN
METHOD:PUBLISH
X-ORIGINAL-URL:https://stockeycentre.com
X-WR-CALDESC:Events for The Stockey Centre
REFRESH-INTERVAL;VALUE=DURATION:PT1H
X-Robots-Tag:noindex
X-PUBLISHED-TTL:PT1H
BEGIN:VTIMEZONE
TZID:America/Toronto
BEGIN:DAYLIGHT
TZOFFSETFROM:-0500
TZOFFSETTO:-0400
TZNAME:EDT
DTSTART:20190310T070000
END:DAYLIGHT
BEGIN:STANDARD
TZOFFSETFROM:-0400
TZOFFSETTO:-0500
TZNAME:EST
DTSTART:20191103T060000
END:STANDARD
BEGIN:DAYLIGHT
TZOFFSETFROM:-0500
TZOFFSETTO:-0400
TZNAME:EDT
DTSTART:20200308T070000
END:DAYLIGHT
BEGIN:STANDARD
TZOFFSETFROM:-0400
TZOFFSETTO:-0500
TZNAME:EST
DTSTART:20201101T060000
END:STANDARD
BEGIN:DAYLIGHT
TZOFFSETFROM:-0500
TZOFFSETTO:-0400
TZNAME:EDT
DTSTART:20210314T070000
END:DAYLIGHT
BEGIN:STANDARD
TZOFFSETFROM:-0400
TZOFFSETTO:-0500
TZNAME:EST
DTSTART:20211107T060000
END:STANDARD
END:VTIMEZONE
BEGIN:VEVENT
DTSTART;TZID=America/Toronto:20200609T160000
DTEND;TZID=America/Toronto:20200609T163000
DTSTAMP:20260424T155248
CREATED:20200604T142745Z
LAST-MODIFIED:20200609T160639Z
UID:2927-1591718400-1591720200@stockeycentre.com
SUMMARY:Virtual Bands on the Bay: Filthy Rich and the Empty Pockets
DESCRIPTION:The Stockey Centre presents Bands on the Bay sponsored by the North Star: Filthy Rich and the Empty Pockets\nFacebook Live Stream Link: https://www.facebook.com/stockeycentre/posts/10163633006715109 \nYoutube Live Stream Link: https://www.youtube.com/watch?v=ecv3MvDnYV8 \nThe concert will begin airing at 4pm on June 9 and will remain viewable at any point after that time. \nWhile it is our annual tradition to host regional performers on our bayside patio from June to August\, this summer we’ll be bringing the performers to you right in the comfort of your own home… virtually! Join us on Tuesday evenings this summer and we’ll be broadcasting some sweet tunes via Facebook and Youtube. \nAbout the band:\nFilthy Rich and the Empty Pockets are a classic rock cover band from Muskoka\, Ontario. Playing radio-friendly rock and pop that you know and love! filthyrichandtheemptypockets.com
URL:https://stockeycentre.com/event/virtual-bands-on-the-bay-filthy-rich-and-the-empty-pockets/
CATEGORIES:Virtual Event
ATTACH;FMTTYPE=image/png:https://stockeycentre.com/wp-content/uploads/2020/06/Virtual-Bands-on-the-Bay-1.png
ORGANIZER;CN="The Stockey Centre":MAILTO:info@stockeycentre.com
END:VEVENT
BEGIN:VEVENT
DTSTART;TZID=America/Toronto:20200616T160000
DTEND;TZID=America/Toronto:20200616T163000
DTSTAMP:20260424T155248
CREATED:20200609T160837Z
LAST-MODIFIED:20200616T142320Z
UID:2940-1592323200-1592325000@stockeycentre.com
SUMMARY:Virtual Bands on the Bay: Tragedy Ann
DESCRIPTION:The Stockey Centre presents Bands on the Bay sponsored by the North Star: Tragedy Ann\nWhile it is our annual tradition to host regional performers on our bayside patio from June to August\, this summer we’ll be bringing the performers to you right in the comfort of your own home… virtually! Join us on Tuesday evenings this summer and we’ll be broadcasting some sweet tunes via Facebook and YouTube. \nFacebook Stream \nYoutube Stream \nAbout the band:\nTragedy Ann is a forward-looking folk duo from Guelph\, Ontario. With intimacy and care\, Liv Cazzola and Braden Phelan favour a flashlight over a spotlight in songs for community\, nature\, and https://medtecllc.com hardworking hospital staff. Braiding organic vocal harmonies with accordion\, singing saw\, guitars\, and ukulele\, Tragedy Ann’s arrangements are as delicate as they are driving.\ntragedyannmusic.com
URL:https://stockeycentre.com/event/virtual-bands-on-the-bay-tragedy-ann/
CATEGORIES:Virtual Event
ATTACH;FMTTYPE=image/png:https://stockeycentre.com/wp-content/uploads/2020/06/Virtual-Bands-on-the-Bay-1.png
ORGANIZER;CN="The Stockey Centre":MAILTO:info@stockeycentre.com
END:VEVENT
BEGIN:VEVENT
DTSTART;TZID=America/Toronto:20200623T160000
DTEND;TZID=America/Toronto:20200623T163000
DTSTAMP:20260424T155248
CREATED:20200616T143836Z
LAST-MODIFIED:20200619T184858Z
UID:2966-1592928000-1592929800@stockeycentre.com
SUMMARY:Virtual Bands on the Bay: Tablelands
DESCRIPTION:The Stockey Centre presents Bands on the Bay sponsored by the North Star: Tablelands\nWhile it is our annual tradition to host regional performers on our bayside patio from June to August\, this summer we’ll be bringing the performers to you right in the comfort of your own home… virtually! Join us on Tuesday evenings this summer and we’ll be broadcasting some sweet tunes via Facebook and YouTube. \nFacebook Stream Link \nYouTube Stream Link \nAbout the band:\nBrandon Priebe\, the man behind Tablelands\, is a songwriter who fuses the core elements of both vintage and contemporary\, seemingly without struggle. He needs only one fluent expression of melody or turn of phrase to stir the unsuspecting ear. Priebe might be shedding the name that he was given\, but his rural roots are something he still proudly bears on his sleeve; and it’s never more evident than when he croons from stage or studio\, and that old-timey echo in his voice lingers in the air. \nfacebook.com/tablelandsmusic/
URL:https://stockeycentre.com/event/virtual-bands-on-the-bay-tablelands/
CATEGORIES:Virtual Event
ATTACH;FMTTYPE=image/png:https://stockeycentre.com/wp-content/uploads/2020/06/Virtual-Bands-on-the-Bay-1.png
ORGANIZER;CN="The Stockey Centre":MAILTO:info@stockeycentre.com
END:VEVENT
BEGIN:VEVENT
DTSTART;TZID=America/Toronto:20200630T160000
DTEND;TZID=America/Toronto:20200630T163000
DTSTAMP:20260424T155248
CREATED:20200616T144539Z
LAST-MODIFIED:20200630T144926Z
UID:2969-1593532800-1593534600@stockeycentre.com
SUMMARY:Virtual Bands on the Bay: Thorn and Roses
DESCRIPTION:The Stockey Centre presents Bands on the Bay sponsored by the North Star: Thorn and Roses\nWhile it is our annual tradition to host regional performers on our bayside patio from June to August\, this summer we’ll be bringing the performers to you right in the comfort of your own home… virtually! Join us on Tuesday evenings this summer and we’ll be broadcasting some sweet tunes via Facebook and YouTube. \nFacebook Streaming Link \nYouTube Streaming Link \nAbout the band: \nThorn and Roses is a three piece amalgamation of powerful vocals and intricate instrumentation. This trio features a blend of uncompromising three part harmonies\, unique arrangements of country\, classic rock and pop standards\, and an energy so abundant it promises to have audience members on their feet from the first note to the very last. \nThis dynamic trio features Katie Korfmann on fiddle and background vocals\, Janna Leduc on guitars and lead/background vocals\, and Jay Riehl on an impressive simultaneous right handed bass keyboard and drums\, as well as background/lead vocals. \nwww.thornandroses.net
URL:https://stockeycentre.com/event/virtual-bands-on-the-bay-thorn-and-roses/
CATEGORIES:Virtual Event
ATTACH;FMTTYPE=image/png:https://stockeycentre.com/wp-content/uploads/2020/06/Virtual-Bands-on-the-Bay-1.png
ORGANIZER;CN="The Stockey Centre":MAILTO:info@stockeycentre.com
END:VEVENT
END:VCALENDAR