BEGIN:VCALENDAR
VERSION:2.0
PRODID:-//The Stockey Centre - ECPv6.15.20//NONSGML v1.0//EN
CALSCALE:GREGORIAN
METHOD:PUBLISH
X-ORIGINAL-URL:https://stockeycentre.com
X-WR-CALDESC:Events for The Stockey Centre
REFRESH-INTERVAL;VALUE=DURATION:PT1H
X-Robots-Tag:noindex
X-PUBLISHED-TTL:PT1H
BEGIN:VTIMEZONE
TZID:America/Toronto
BEGIN:DAYLIGHT
TZOFFSETFROM:-0500
TZOFFSETTO:-0400
TZNAME:EDT
DTSTART:20190310T070000
END:DAYLIGHT
BEGIN:STANDARD
TZOFFSETFROM:-0400
TZOFFSETTO:-0500
TZNAME:EST
DTSTART:20191103T060000
END:STANDARD
BEGIN:DAYLIGHT
TZOFFSETFROM:-0500
TZOFFSETTO:-0400
TZNAME:EDT
DTSTART:20200308T070000
END:DAYLIGHT
BEGIN:STANDARD
TZOFFSETFROM:-0400
TZOFFSETTO:-0500
TZNAME:EST
DTSTART:20201101T060000
END:STANDARD
BEGIN:DAYLIGHT
TZOFFSETFROM:-0500
TZOFFSETTO:-0400
TZNAME:EDT
DTSTART:20210314T070000
END:DAYLIGHT
BEGIN:STANDARD
TZOFFSETFROM:-0400
TZOFFSETTO:-0500
TZNAME:EST
DTSTART:20211107T060000
END:STANDARD
END:VTIMEZONE
BEGIN:VEVENT
DTSTART;VALUE=DATE:20201211
DTEND;VALUE=DATE:20201212
DTSTAMP:20260424T071550
CREATED:20201106T170012Z
LAST-MODIFIED:20201211T164526Z
UID:3150-1607644800-1607731199@stockeycentre.com
SUMMARY:Natalie MacMaster & Donnell Leahy’s A Celtic Family Christmas at Home
DESCRIPTION:Natalie MacMaster & Donnell Leahy’s Celtic Family Christmas at Home \nThis Christmas season\, our family is inviting the world to our home\, virtually\, to witness our music\, life and preparation at Christmas time. Mostly music\, it will also include candid moments around the kitchen\, decorating the tree\, and other bits of Christmas chaos!! \nWe are excited to team up with local theatres to present this show!!! \nThis is a virtual concert\, administered through homeplay.live\, the “Buy Tickets at homeplay.live” link below will take you to the location where they may pay for and also view the final concert.  \nChristmas Bonus: When you purchase a ticket\, you will be automatically entered to win a trip for 2 to Cape Breton Island (when it is safe to travel). For more information on the contest\, visit: https://www.cbisland.com/natalies-cape-breton-trip/. \nAbout homeplay.live & this virtual concert: \nWe welcome families into our home to share some music\, traditions\, and cheer! See how we spend a day leading up to Christmas with our family. Join us on your TV (or whichever device you choose) with your family and support your local theatre at the same time. \n\nPatrons will be able to test their system after purchasing a ticket by watching the placeholder promo video.\nPatrons will also be able to register with the HomePlay.Live network which allows them to protect and retrieve their ticket\, if they lose their confirmation email.\nIt is highly advised that patrons purchase at least a week prior to their show time\, to be sure their computer/television is set up correctly. We do not provide technical support for in-home troubleshooting\, as this is not possible given the number of patrons\, connection types\, firewalls\, computers\, etc.\nSuggestions for troubleshooting and additional support can be found at: https://support.isilive.ca/portal/en/kb/homeplay/celtic-family-christmas
URL:https://stockeycentre.com/event/a-celtic-family-christmas-at-home/
CATEGORIES:Virtual Event
ATTACH;FMTTYPE=image/png:https://stockeycentre.com/wp-content/uploads/2020/11/DCB-Graphic.png
ORGANIZER;CN="The Stockey Centre":MAILTO:info@stockeycentre.com
END:VEVENT
BEGIN:VEVENT
DTSTART;TZID=America/Toronto:20201231T200000
DTEND;TZID=America/Toronto:20201231T200000
DTSTAMP:20260424T071550
CREATED:20201219T151955Z
LAST-MODIFIED:20201219T164408Z
UID:3178-1609444800-1609444800@stockeycentre.com
SUMMARY:Ron James New Year's Eve show: Live From my Living Room Hindsight is 2020
DESCRIPTION:VIRTUAL COMEDY SHOW \nAward-winning comedian Ron James is back where he belongs: in front of a live audience. After selling out theatres across the country for over 25 years with his marathon\, side-splitting\, and kinetically charged performances\, Ron is now pioneering the virtual comedy scene. The man of “a million words and a million laughs” is on a mission to unite Canadians and help us laugh our way into 2021. \nA stand-up comedy show like you’ve never seen before\, this intimate\, interactive\, and shared experience showcases Ron’s hysterical and unique comedic flair\, uninhibited. Pull up an easy chair and step into Ron’s living room\, as he takes you on a breath-taking roller coaster ride that cuts a wide swath through contemporary culture with his razor-sharp wit\, uncompromising standards and unique\, poetically-honed delivery. \nTune in this New Year’s Eve as Canada’s #1 touring comedian rides the ‘Corona Coaster’ that was 2020 into hell bound oblivion where it belongs! Just as he blazed a trail playing theatres from one end of our dominion to the other\, this time he ventures into a virtual tour coming to you straight from his living room. Featuring all new material\, Ron promises to mine maximum laughs from our Year of the Plague. So\, pour yourself a drink\, grab a seat on the couch and laugh away the Curse of COVID before the Martian’s invade…cause you just know that’s coming next! \nTickets for Ron James – LIVE FROM MY LIVING ROOM: HINDSIGHT IS 2020 are $30.00 (no fees or surcharges)\, are on sale now and are available at www.ronjames.ca. Showtime is 8:00 pm (EST) but logging on early is highly recommended. For more info\, pics and comedy clips\, visit www.ronjames.ca.
URL:https://stockeycentre.com/event/ron-james-new-years-eve-show-live-from-my-living-room-hindsight-is-2020/
CATEGORIES:Virtual Event
ATTACH;FMTTYPE=image/png:https://stockeycentre.com/wp-content/uploads/2020/12/RonJames_Facebook_New_Years.png
END:VEVENT
END:VCALENDAR