BEGIN:VCALENDAR
VERSION:2.0
PRODID:-//The Stockey Centre - ECPv6.15.20//NONSGML v1.0//EN
CALSCALE:GREGORIAN
METHOD:PUBLISH
X-WR-CALNAME:The Stockey Centre
X-ORIGINAL-URL:https://stockeycentre.com
X-WR-CALDESC:Events for The Stockey Centre
REFRESH-INTERVAL;VALUE=DURATION:PT1H
X-Robots-Tag:noindex
X-PUBLISHED-TTL:PT1H
BEGIN:VTIMEZONE
TZID:America/Toronto
BEGIN:DAYLIGHT
TZOFFSETFROM:-0500
TZOFFSETTO:-0400
TZNAME:EDT
DTSTART:20200308T070000
END:DAYLIGHT
BEGIN:STANDARD
TZOFFSETFROM:-0400
TZOFFSETTO:-0500
TZNAME:EST
DTSTART:20201101T060000
END:STANDARD
BEGIN:DAYLIGHT
TZOFFSETFROM:-0500
TZOFFSETTO:-0400
TZNAME:EDT
DTSTART:20210314T070000
END:DAYLIGHT
BEGIN:STANDARD
TZOFFSETFROM:-0400
TZOFFSETTO:-0500
TZNAME:EST
DTSTART:20211107T060000
END:STANDARD
BEGIN:DAYLIGHT
TZOFFSETFROM:-0500
TZOFFSETTO:-0400
TZNAME:EDT
DTSTART:20220313T070000
END:DAYLIGHT
BEGIN:STANDARD
TZOFFSETFROM:-0400
TZOFFSETTO:-0500
TZNAME:EST
DTSTART:20221106T060000
END:STANDARD
END:VTIMEZONE
BEGIN:VEVENT
DTSTART;TZID=America/Toronto:20210608T160000
DTEND;TZID=America/Toronto:20210608T160000
DTSTAMP:20260423T232705
CREATED:20210602T160932Z
LAST-MODIFIED:20210622T135640Z
UID:3288-1623168000-1623168000@stockeycentre.com
SUMMARY:Virtual Bands on the Bay: Lou Moore
DESCRIPTION:While it is our annual tradition to host regional performers on our bayside patio from June to August\, this summer during Phase One and Two of Ontario’s Roadmap to Reopening we’ll be bringing the performers to you right in the comfort of your own home… virtually!  Join us on Tuesday evenings this summer and we’ll be broadcasting some sweet tunes via Facebook and YouTube.\n  \nVirtual shows will be broadcast at 4pm (and available at any time afterwards) and when we are able to host live shows later in the summer during Phase Three they will be held at 7pm at The Stockey Centre\, our weekly update emails (you can sign up for them here) and this website will include where and when each concert is occurring.\n  \nUP NEXT:\nLou Moore\nTuesday June 8 at 4pm – Virtual Show\n  \nView on Facebook | View on YouTube\n  \nAt four years of age my mom and dad had a country band and I started studying guitar with them. Although I learned a lot of songs from my parents my father insisted I study music and learn to read. By the age of twelve I had started to teach guitar and music performance lessons. I honed a lot of my skills in the bluegrass music genre playing with the band Big Redd Ford where we were introduced to people like Jerry Douglas and Ricky Skaggs. I also played for a number of years with The Good Brothers. I was a side man for hire for many years as well and played with people like Tommy Hunter\, Gord and Audie Henry\, Larry Mattson\, Bill Johnson and other country bands throughout Ontario. For the past twenty years I had played consistently every Thursday night at local bars\, (presently Colonel Mustard’s in Newmarket)\, where I have been very fortunate to enjoy the company of some of the best musicians in the business. Players like Jimmy Bowskill\, Wendell Ferguson\, Steve Piticco\, Michael Francis\, Jerome Godboo\, Roly Platt\, Carlos Del Junco\, Linsey and Tyler Beckett\, John Showman\, Dan Howlett\, John P. Allen\, Graham Young\, Mike Bowell and many others are regular guests.\nWebsite | Facebook\n  \nWe’ve got so many more great names upcoming this season! Stay tuned to our website for the next performer’s information!
URL:https://stockeycentre.com/event/virtual-bands-on-the-bay-lou-moore/
LOCATION:Virtual Event
CATEGORIES:Bands on the Bay,Virtual Event
ATTACH;FMTTYPE=image/jpeg:https://stockeycentre.com/wp-content/uploads/2021/06/rsw_1536.jpg
ORGANIZER;CN="The Stockey Centre":MAILTO:info@stockeycentre.com
END:VEVENT
BEGIN:VEVENT
DTSTART;TZID=America/Toronto:20210615T160000
DTEND;TZID=America/Toronto:20210615T160000
DTSTAMP:20260423T232705
CREATED:20210604T181842Z
LAST-MODIFIED:20210622T135734Z
UID:3302-1623772800-1623772800@stockeycentre.com
SUMMARY:Virtual Bands on the Bay: Rich Howard
DESCRIPTION:While it is our annual tradition to host regional performers on our bayside patio from June to August\, this summer during Phase One and Two of Ontario’s Roadmap to Reopening we’ll be bringing the performers to you right in the comfort of your own home… virtually!  Join us on Tuesday evenings this summer and we’ll be broadcasting some sweet tunes via Facebook and YouTube.\n  \nVirtual shows will be broadcast at 4pm (and available at any time afterwards) and when we are able to host live shows later in the summer during Phase Three they will be held at 7pm at The Stockey Centre\, our weekly update emails (you can sign up for them here) and this website will include where and when each concert is occurring.\n  \nUP NEXT:\nRich Howard\nTuesday June 15 at 4pm – Virtual Show\nView on Facebook | View on YouTube\n\nRich Howard of “Filthy Rich and the Empty Pockets” is a member of Cottage Country’s best cover band! Classic-Rock hits from the era of Guitar-Heroes and Golden-Gods! \nfilthyrichandtheemptypockets.com | facebook.com/filthyrichandtheemptypockets \n  \nWe’ve got so many more great names upcoming this season! Stay tuned to our website for the next performer’s information!
URL:https://stockeycentre.com/event/virtual-bands-on-the-bay-rich-howard/
LOCATION:Virtual Event
CATEGORIES:Bands on the Bay,Virtual Event
ATTACH;FMTTYPE=image/jpeg:https://stockeycentre.com/wp-content/uploads/2021/06/Filthy-Rich.jpg
ORGANIZER;CN="The Stockey Centre":MAILTO:info@stockeycentre.com
END:VEVENT
BEGIN:VEVENT
DTSTART;TZID=America/Toronto:20210622T160000
DTEND;TZID=America/Toronto:20210622T160000
DTSTAMP:20260423T232705
CREATED:20210615T145603Z
LAST-MODIFIED:20210622T135808Z
UID:3312-1624377600-1624377600@stockeycentre.com
SUMMARY:Virtual Bands on the Bay: Lemon Cash
DESCRIPTION:While it is our annual tradition to host regional performers on our bayside patio from June to August\, this summer during Phase One and Two of Ontario’s Roadmap to Reopening we’ll be bringing the performers to you right in the comfort of your own home… virtually!  Join us on Tuesday evenings this summer and we’ll be broadcasting some sweet tunes via Facebook and YouTube.\n  \nVirtual shows will be broadcast at 4pm (and available at any time afterwards) and when we are able to host live shows later in the summer during Phase Three they will be held at 7pm at The Stockey Centre\, our weekly update emails (you can sign up for them here) and this website will include where and when each concert is occurring.\n  \nUP NEXT:\nLemon Cash\nTuesday June 22 at 4pm – Virtual Show\nView on Facebook | View on YouTube\n\n\n\nThere’s a saying: when life hands you lemons\, make lemonade.  \nOttawa-born brothers\, Cory and Jeff Papineau live by this saying.  So much so\, that they named their band Lemon Cash. The band’s name was inspired by the brothers’ childhood when they ran a neighbourhood lemonade stand. The two brothers would come home each day celebrating their hard-earned “lemon cash”. To this day they share similar interests in music and continue to write and record music together. Starting out as a rock band\, they had success playing lots of gigs\, receiving radio traction and formed quite a substantial following. Looking to evolve their music\, Cory and Jeff found their sweet spot and transitioned into the country world where they would come to realize this is where their tastes and personalities fit best. \n\n\n\nWebsite: lemoncashmusic.com | Facebook: @lemoncashh | Instagram: @lemoncash \nWe’ve got so many more great names upcoming this season! Stay tuned to our website for the next performer’s information!
URL:https://stockeycentre.com/event/virtual-bands-on-the-bay-lemon-cash/
LOCATION:Virtual Event
CATEGORIES:Bands on the Bay,Virtual Event
ATTACH;FMTTYPE=image/jpeg:https://stockeycentre.com/wp-content/uploads/2021/06/Lemon-Cash-promo-pix-scaled.jpg
ORGANIZER;CN="The Stockey Centre":MAILTO:info@stockeycentre.com
END:VEVENT
BEGIN:VEVENT
DTSTART;TZID=America/Toronto:20210625T190000
DTEND;TZID=America/Toronto:20210625T190000
DTSTAMP:20260423T232705
CREATED:20210504T190555Z
LAST-MODIFIED:20210622T135815Z
UID:3272-1624647600-1624647600@stockeycentre.com
SUMMARY:Bobby Orr Hall of Fame Class of 2020 Inductee Q&A
DESCRIPTION:The Bobby Orr Hall of Fame is pleased to announce it will live-stream a Q&A with the Class of 2020 Inductees on Friday\, June 25th at 7:00 PM EST. The event hosted by Waubgeshig Rice\, will give us the opportunity to get to know Chris Lee\, Sarah ‘Sally’ Manning and Peter Wiltmann better. The event will also feature Future Hall of Famers Aidan Dudas\, Megan Oldham\, and Graham Ritchie who will share their experiences returning to international competition during the pandemic. The formal induction ceremony for the Class of 2020 will be rescheduled when we can safely host it in person at the Stockey Centre. \nTickets for the event are by donation and available on Tuesday\, May 11th at 11:00 AM EST from the Stockey Centre Box Office and online at www.stockeycentre.com. As this is a virtual event only one ticket is required per household. Ticket purchasers will receive an email with the link to join the virtual Zoom event. \nChris Lee – Athlete \nChris Lee\, born in MacTier\, ON\, has further solidified the reputation of the West Parry Sound region for producing great hockey players. Chris grew up playing Minor Hockey in Parry Sound and his teams won Bantam\, Midget and Juvenile All-Ontario Championships. He attended State University of New York (SUNY)\, Potsdam\, an NCAA division II school on a hockey scholarship. In his final season he was named SUNY Athletic Conference Player of the Year and selected for the All-American First Team by the American Hockey Coaches Association. Lee went on to play 249 games in the American Hockey League for the Albany River Rats\, Omaha Ak-Sar-Ben Knights\, Iowa Stars\, Bridgeport Sound Tigers\, and Wilkes-Barre/Scranton Penguins. Moving to the German DEL league with Adler Manheim in 2011-12\, he earned the Defenceman of the Year Award. Chris went on to play a total of 118 games in the DEL\, 71 games in the Swedish Hockey League (SHL) and 322 games in the KHL where he holds five all-time records. Chris made his team Canada debut on the world stage in 2017\, winning a silver medal at the 2017 IIHF World Championships followed by a bronze medal with Team Canada at the 2018 Winter Olympic Games. \nSarah ‘Sally’ Manning – Athlete \nSarah ‘Sally’ Manning was an outstanding and dedicated multi-sport athlete and role model for active living. One of Canada’s most accomplished field hockey players\, she won multiple national championships\, played on Team Canada at three world field hockey tournaments and was selected as a member of the World Eleven all-star team to play at the Golden Jubilee Tournament of 1980 in Ayr\, Scotland. Although born in Toronto\, Sally had a long connection to Parry Sound before relocating here through her involvement with local adventure travel company Black Feather with whom she guided canoe\, kayak and hiking trips for more than 25 years. Sally was an avid golfer; at Parry Sound Golf & Country Club she was a four-time Senior Ladies Club Champion and three-time Ladies Club Champion. Sally was an also an avid hockey player with the Parry Sound Phantoms for more than a decade competing provincially. Additionally\, she was a committed master cross-country skier\, winning numerous provincial and national championships and competing at multiple world championships. She won a silver medal in 20km skate ski at the 2008 World Masters Cross Country Ski Championships. While Sally was a fierce competitor in all her sports\, she is remembered by teammates and competitors alike for her sportsmanship\, integrity and quiet modesty. Sally passed away in 2014 after a battle with cancer\, during which she showed the same fighting spirit that allowed her to rise to such a high level in so many sports. \nPeter Wiltmann – Builder \nPeter Wiltmann emigrated to Canada from Germany in search of open spaces and room to play. He landed at Wawanaisa Resort in Carling with wife Dorte\, which they have operated together for more than 40 years. With a great deal of winter downtime on his hands and trails nearby\, cross-country skiing quickly became a passion for Peter\, shared by sons Viktor and Konrad. He began volunteering at Georgian Nordic Ski Club more than 20 years ago and since that time has coached the high school ski team\, assisted in the creation of the Georgian Nordic Racing Team and served as a Georgian Nordic Board Member. Athletes coached by Peter have gone on to race at provincial\, national and international levels. Athletes\, parents and fellow coaches alike have noted Peter’s dedication\, enthusiasm and the fun\, caring\, team atmosphere he builds. Just like his athletes\, Peter is always striving to improve his coaching techniques and stay abreast of new developments in the sport. Peter is passionate about teaching youth to love sports and considers a day successful if his athletes are giving their best and have a great time outdoors on the snow. In 2018 he was recognized with the Heinz Niederhauser Outstanding Coaching Award by Cross Country Ski Ontario for his significant\, long-term commitment to coaching cross-country ski racing in Ontario. \nAidan Dudas \nAidan is a 20-year-old hockey player who gained his love for the game at the age of four in Parry Sound. He was drafted to the OHL in the first round to the Owen Sound Attack in 2016\, and in 2018 he was drafted to the NHL in the 4th round to the LA Kings. At 15 he won silver with Team Canada at the World Youth Olympics and then went on to win two Gold Medals with Team Canada at the Ivan Hlinka U18 tournament\, and the U20 World Juniors tournament. Aidan has travelled to many countries around the world for hockey and is currently living in Los Angeles California\, playing his first year as a professional. \nMegan Oldham \nMegan is a 19-year-old freestyle skier on the Canadian National Team. She started freestyle skiing around the age of 15 and absolutely fell in love with it. She has been on the Canadian team for roughly three years and has competed at various events including the XGames\, Dew Tour\, World Cups and World Championships. In the winter she travels a lot for training but in the summer\, she loves to come home to Parry Sound and spend time on the Bay. \nGraham Ritchie \nGraham was born and raised in Parry Sound and growing up was involved in a variety of sports including hockey\, skiing\, and golf. He began competitive skiing in Grade 11\, but it wasn’t until Grade 12 that he began training with teammates under the guidance of Coach Peter Wiltmann. Four years ago\, he was invited to join the National Team Development Centre Thunder Bay\, a cross-country ski team based out of Thunder Bay and for the last three years he has been a member of the Canadian National Ski Team. Graham has competed at the World Junior Championships\, U23 World Championships\, World Championships\, and a handful of World Cup events. This short and unique season was one of the most successful\, he earned his best World Cup result yet\, finishing 17th individually and 7th with teammate Antoine Cyr. \nWaubgeshig Rice \nWaubgeshig Rice is an author and journalist from Wasauksing First Nation. He has written three fiction titles\, and his short stories and essays have been published in numerous anthologies. His most recent novel\, Moon of the Crusted Snow\, was published in 2018 and became a national bestseller. He graduated from Ryerson University’s journalism program in 2002\, and spent most of his journalism career with the Canadian Broadcasting Corporation as a video journalist and radio host. He left CBC in 2020 to focus on his literary career. He lives in Sudbury\, Ontario with his wife and two sons. \nFor more information\, please contact Bobby Orr Hall of Fame Curator Caitlin Dyer or Induction Committee Chair Dave Garagan. \nContact:  \nCaitlin Dyer\nBobby Orr Hall of Fame Curator\nEmail: cdyer@bobbyorrhalloffame.com\n705-746-4466 ext. 208 \nOR \nDave Garagan\nChair\, Induction Committee\nEmail: dave@parrysoundinsurance.com \nSPONSORS\nThank you to our generous sponsors! Your support helps to make community events possible. \nTo learn more about supporting this event\, contact Caitlin Dyer at cdyer@bobbyorrhalloffame.com. \nMEDIA SPONSORS
URL:https://stockeycentre.com/event/bobby-orr-hall-of-fame-class-of-2020-inductee-qa/
LOCATION:Virtual Event
CATEGORIES:Bobby Orr Hall of Fame Event,Special Event,Virtual Event
ATTACH;FMTTYPE=image/jpeg:https://stockeycentre.com/wp-content/uploads/2018/04/Logo-2.jpg
ORGANIZER;CN="Bobby Orr Hall of Fame":MAILTO:cdyer@bobbyorrhalloffame.com
END:VEVENT
BEGIN:VEVENT
DTSTART;TZID=America/Toronto:20210629T160000
DTEND;TZID=America/Toronto:20210629T160000
DTSTAMP:20260423T232705
CREATED:20210622T153530Z
LAST-MODIFIED:20220325T143320Z
UID:3328-1624982400-1624982400@stockeycentre.com
SUMMARY:Virtual Bands on the Bay: Karla Crawford & Glenn Bladon
DESCRIPTION:While it is our annual tradition to host regional performers on our bayside patio from June to August\, this summer during Phase One and Two of Ontario’s Roadmap to Reopening we’ll be bringing the performers to you right in the comfort of your own home… virtually!  \nJoin us on Tuesday evenings this summer and we’ll be broadcasting some sweet tunes via Facebook and YouTube. Virtual shows will be broadcast at 4pm (and available at any time afterwards) and when we are able to host live shows later in the summer during Phase Three they will be held at 7pm at The Stockey Centre\, our weekly update emails (you can sign up for them here) and this website will include where and when each concert is occurring. \nUP NEXT: Karla Crawford & Glenn Bladon\nTuesday June 29 at 4pm – Virtual Show\nView on Facebook | View on YouTube\nKarla Crawford is a interactive singer songwriter with a playful side. A definite entertainer who has also been called a comedian on more than one occasion.  Powerful lyrics and amazing vocals have created quite the following for her over the years. Karla is an artist that would rather stay true to herself\, than play the game of ‘trying to be moulded into something that she isn’t. With a handful of singles on country radio back in the day\, countless performances across Canada and the US\, opening for greats such as Vince Gill and Brad Paisley\, Karla is a seasoned professional. Her shows offer an insight to her true talent and off the cuff wit. Writing and performing for more than 25 Years\, this is a show to see. \nGlenn is a featured performer and Musical Director with Deerhurst Resort’s current stage show DECADES in Huntsville\, Ontario\, Canada. He started working with the Deerhurst stage shows in 1990 after moving from his hometown of Edmonton\, Alberta. While based in Edmonton\, his musical career was eclectic to say the least. Musical Director of a television talk show ”The Paul Wood Show” for ITV\, Co-Producer of a weekly radio show “Up and Coming” for KISS FM\, guitarist for Edmonton’s Citadel Theatre\, jingles for radio and television\, National Film Board documentaries\, independent record releases and music videos as well as club and concert touring. Upon arriving in Ontario Glenn was hired to play guitar on Shania Twain’s demo recordings just prior to her signing a major recording deal. \nWebsite | Facebook | Instagram \nWe’ve got so many more great names upcoming this season! Stay tuned to our website for the next performer’s information!
URL:https://stockeycentre.com/event/virtual-bands-on-the-bay-karla-crawford-glenn-bladon/
LOCATION:Virtual Event
CATEGORIES:Bands on the Bay,Virtual Event
ATTACH;FMTTYPE=image/jpeg:https://stockeycentre.com/wp-content/uploads/2021/06/Karla.jpg
ORGANIZER;CN="The Stockey Centre":MAILTO:info@stockeycentre.com
END:VEVENT
END:VCALENDAR