BEGIN:VCALENDAR
VERSION:2.0
PRODID:-//The Stockey Centre - ECPv6.15.20//NONSGML v1.0//EN
CALSCALE:GREGORIAN
METHOD:PUBLISH
X-WR-CALNAME:The Stockey Centre
X-ORIGINAL-URL:https://stockeycentre.com
X-WR-CALDESC:Events for The Stockey Centre
REFRESH-INTERVAL;VALUE=DURATION:PT1H
X-Robots-Tag:noindex
X-PUBLISHED-TTL:PT1H
BEGIN:VTIMEZONE
TZID:America/Toronto
BEGIN:DAYLIGHT
TZOFFSETFROM:-0500
TZOFFSETTO:-0400
TZNAME:EDT
DTSTART:20170312T070000
END:DAYLIGHT
BEGIN:STANDARD
TZOFFSETFROM:-0400
TZOFFSETTO:-0500
TZNAME:EST
DTSTART:20171105T060000
END:STANDARD
BEGIN:DAYLIGHT
TZOFFSETFROM:-0500
TZOFFSETTO:-0400
TZNAME:EDT
DTSTART:20180311T070000
END:DAYLIGHT
BEGIN:STANDARD
TZOFFSETFROM:-0400
TZOFFSETTO:-0500
TZNAME:EST
DTSTART:20181104T060000
END:STANDARD
BEGIN:DAYLIGHT
TZOFFSETFROM:-0500
TZOFFSETTO:-0400
TZNAME:EDT
DTSTART:20190310T070000
END:DAYLIGHT
BEGIN:STANDARD
TZOFFSETFROM:-0400
TZOFFSETTO:-0500
TZNAME:EST
DTSTART:20191103T060000
END:STANDARD
END:VTIMEZONE
BEGIN:VEVENT
DTSTART;TZID=America/Toronto:20181009T183000
DTEND;TZID=America/Toronto:20181009T203000
DTSTAMP:20260425T132229
CREATED:20180823T205214Z
LAST-MODIFIED:20181005T182652Z
UID:1124-1539109800-1539117000@stockeycentre.com
SUMMARY:Art Classes & Wine Glasses
DESCRIPTION:With Artist Instructor Andrea McIntyre\nNo experience required! Come out and unwind with a glass of wine as local artist Andrea McIntyre leads the class in an acrylic paint on 12”x16” canvas project. We’ll supply you with the materials needed\, including brushes\, paint\, aprons and canvases. Please arrive a few minutes early to secure your seats\, as painting will begin at 6:30 PM. \nOne glass of wine is included in the price of admission. Additional drinks will be available at our cash bar. Outside food and drink are not allowed – NO BYOB. This is a 19+ only event – all participants will be required to provide photo I.D. \nTickets for this event are only $29.95 +HST. There are only 20 seats available\, so act fast! \nAbout the Artist Instructor: \nAfter a long hiatus from high school art\, Andrea has begun to include art in her creative expression.  Like her mother\, Fran Rutke\, Andrea likes to try new things and so bounces from medium to medium.  She has yet to decide which is her favourite.  In all her work\, she attempts to focus on beauty\, be it of colour or any of the Creator’s work.  She hopes to grow to channel art from spirit.  Meanwhile\, she studies through workshops and happy little accidents. \nThe painting for the October 9 class: 
URL:https://stockeycentre.com/event/art-classes-wine-glasses-13/
LOCATION:The Stockey Centre\, 2 Bay Street\, Parry Sound\, Ontario\, P2A 1S3\, Canada
CATEGORIES:Workshop
ATTACH;FMTTYPE=image/jpeg:https://stockeycentre.com/wp-content/uploads/2018/08/Clouds-October.jpg
END:VEVENT
BEGIN:VEVENT
DTSTART;TZID=America/Toronto:20181020T093000
DTEND;TZID=America/Toronto:20181020T123000
DTSTAMP:20260425T132229
CREATED:20180927T145715Z
LAST-MODIFIED:20180927T150308Z
UID:1219-1540027800-1540038600@stockeycentre.com
SUMMARY:Nuno Felted Silk Scarf Workshop
DESCRIPTION:Join us on October 20th at the Stockey Centre to learn the art of Nuno Felted Silk Scarves! The workshop will be led by local artisan Heather Darlington. \nEach participant is required to bring a large beach towel and 10-12′ of novelty yarn for decoration if desired. \nCoffee\, tea\, water will be provided. Registrants are welcome to bring snacks. \nRegistration for this workshop is $39.95 + HST. This workshop is limited to 15 registrants\, so get your spot before they’re gone!
URL:https://stockeycentre.com/event/nuno-felted-silk-scarf-workshop/
LOCATION:The Stockey Centre\, 2 Bay Street\, Parry Sound\, Ontario\, P2A 1S3\, Canada
CATEGORIES:Workshop
ATTACH;FMTTYPE=image/jpeg:https://stockeycentre.com/wp-content/uploads/2018/09/Nuno-Felted-Scarf-Workshop.jpg
ORGANIZER;CN="The Stockey Centre":MAILTO:info@stockeycentre.com
END:VEVENT
BEGIN:VEVENT
DTSTART;TZID=America/Toronto:20181023T183000
DTEND;TZID=America/Toronto:20181023T203000
DTSTAMP:20260425T132229
CREATED:20180823T203911Z
LAST-MODIFIED:20181005T182713Z
UID:1109-1540319400-1540326600@stockeycentre.com
SUMMARY:Art Classes & Wine Glasses
DESCRIPTION:With Artist Instructor Marc DeGroote\nNo experience required! Come out and unwind with a glass of wine as local artist Marc DeGroote leads the class in an acrylic paint on 12”x16” canvas project. We’ll supply you with the materials needed\, including brushes\, paint\, aprons and canvases. Please arrive a few minutes early to secure your seats\, as painting will begin at 6:30 PM. \nOne glass of wine is included in the price of admission. Additional drinks will be available at our cash bar. Outside food and drink are not allowed – NO BYOB. This is a 19+ only event – all participants will be required to provide photo I.D. \nTickets for this event are only $29.95 +HST. There are only 20 seats available\, so act fast! \nAbout the Artist Instructor: \nMarc De Groote was born in Belgium and immigrated to Canada in 1957\, at the age of ten. \nWildlife Artist extraordinaire\, this Artist’s exceptional talent came to life in 2001.  A self-taught Artist who will astonish you with the incredible detail achieved in his creations of mixed media\, Acrylics\, Oils\, Watercolours\, Graphite\, all form part of Marc’s palette.  Seldom will you experience the feeling of such closeness with nature as when you view Marc’s fine art.  Marc has spent many years traveling\, closely observing and enjoying the beauty of nature and all of its pleasures. \nThe painting for the October 23 class: 
URL:https://stockeycentre.com/event/art-classes-wine-glasses-8/
LOCATION:The Stockey Centre\, 2 Bay Street\, Parry Sound\, Ontario\, P2A 1S3\, Canada
CATEGORIES:Workshop
ATTACH;FMTTYPE=image/jpeg:https://stockeycentre.com/wp-content/uploads/2018/08/Birch-Forest.jpg
END:VEVENT
END:VCALENDAR