BEGIN:VCALENDAR
VERSION:2.0
PRODID:-//The Stockey Centre - ECPv6.15.20//NONSGML v1.0//EN
CALSCALE:GREGORIAN
METHOD:PUBLISH
X-WR-CALNAME:The Stockey Centre
X-ORIGINAL-URL:https://stockeycentre.com
X-WR-CALDESC:Events for The Stockey Centre
REFRESH-INTERVAL;VALUE=DURATION:PT1H
X-Robots-Tag:noindex
X-PUBLISHED-TTL:PT1H
BEGIN:VTIMEZONE
TZID:America/Toronto
BEGIN:DAYLIGHT
TZOFFSETFROM:-0500
TZOFFSETTO:-0400
TZNAME:EDT
DTSTART:20180311T070000
END:DAYLIGHT
BEGIN:STANDARD
TZOFFSETFROM:-0400
TZOFFSETTO:-0500
TZNAME:EST
DTSTART:20181104T060000
END:STANDARD
BEGIN:DAYLIGHT
TZOFFSETFROM:-0500
TZOFFSETTO:-0400
TZNAME:EDT
DTSTART:20190310T070000
END:DAYLIGHT
BEGIN:STANDARD
TZOFFSETFROM:-0400
TZOFFSETTO:-0500
TZNAME:EST
DTSTART:20191103T060000
END:STANDARD
BEGIN:DAYLIGHT
TZOFFSETFROM:-0500
TZOFFSETTO:-0400
TZNAME:EDT
DTSTART:20200308T070000
END:DAYLIGHT
BEGIN:STANDARD
TZOFFSETFROM:-0400
TZOFFSETTO:-0500
TZNAME:EST
DTSTART:20201101T060000
END:STANDARD
END:VTIMEZONE
BEGIN:VEVENT
DTSTART;TZID=America/Toronto:20190212T183000
DTEND;TZID=America/Toronto:20190212T203000
DTSTAMP:20260425T074650
CREATED:20180823T204705Z
LAST-MODIFIED:20190212T170247Z
UID:1118-1549996200-1550003400@stockeycentre.com
SUMMARY:POSTPONED: Art Classes & Wine Glasses
DESCRIPTION:THIS EVENT HAS BEEN POSTPONED UNTIL FEBRUARY 19 2019.\nWith Artist Instructor Marc DeGroote\nNo experience required! Come out and unwind with a glass of wine as local artist Marc DeGroote leads the class in an acrylic paint on 12”x16” canvas project. We’ll supply you with the materials needed\, including brushes\, paint\, aprons and canvases. Please arrive a few minutes early to secure your seats\, as painting will begin at 6:30 PM. \nOne glass of wine is included in the price of admission. Additional drinks will be available at our cash bar. Outside food and drink are not allowed – NO BYOB. This is a 19+ only event – all participants will be required to provide photo I.D. \nTickets for this event are only $29.95 +HST. There are only 20 seats available\, so act fast! \nAbout the Artist Instructor: \nMarc De Groote was born in Belgium and immigrated to Canada in 1957\, at the age of ten. \nWildlife Artist extraordinaire\, this Artist’s exceptional talent came to life in 2001.  A self-taught Artist who will astonish you with the incredible detail achieved in his creations of mixed media\, Acrylics\, Oils\, Watercolours\, Graphite\, all form part of Marc’s palette.  Seldom will you experience the feeling of such closeness with nature as when you view Marc’s fine art.  Marc has spent many years traveling\, closely observing and enjoying the beauty of nature and all of its pleasures. \nThe painting for the February 12 class:
URL:https://stockeycentre.com/event/art-classes-wine-glasses-11/
LOCATION:The Stockey Centre\, 2 Bay Street\, Parry Sound\, Ontario\, P2A 1S3\, Canada
CATEGORIES:Workshop
ATTACH;FMTTYPE=image/jpeg:https://stockeycentre.com/wp-content/uploads/2018/08/Serenity-SM.jpg
END:VEVENT
BEGIN:VEVENT
DTSTART;TZID=America/Toronto:20190216T093000
DTEND;TZID=America/Toronto:20190216T123000
DTSTAMP:20260425T074650
CREATED:20190112T150021Z
LAST-MODIFIED:20190128T213617Z
UID:1498-1550309400-1550320200@stockeycentre.com
SUMMARY:Workshop: Felted Art
DESCRIPTION:Come join us on February 16 to learn the basics of needle felting – also known as dry felting.  This felt is created by using a special needle.  Felting needles have barbs on them that snag and tangle the wool to create the felt.  In this course you will learn the techniques to paint a picture with wool. \nAll materials are supplied. The workshop will be led by local artisan Heather Darlington. \nRegistration for this workshop is $45 + HST. This workshop is limited to 15 registrants\, so get your spot before they’re gone! \nPlease bring a photo of something you would like to paint with wool. \n 
URL:https://stockeycentre.com/event/workshop-felted-art/
LOCATION:The Stockey Centre\, 2 Bay Street\, Parry Sound\, Ontario\, P2A 1S3\, Canada
CATEGORIES:Workshop
ATTACH;FMTTYPE=image/jpeg:https://stockeycentre.com/wp-content/uploads/2019/01/Felt-Art-e1547221175133.jpg
ORGANIZER;CN="The Stockey Centre":MAILTO:info@stockeycentre.com
END:VEVENT
BEGIN:VEVENT
DTSTART;TZID=America/Toronto:20190226T183000
DTEND;TZID=America/Toronto:20190226T203000
DTSTAMP:20260425T074650
CREATED:20180823T203404Z
LAST-MODIFIED:20190205T164534Z
UID:1103-1551205800-1551213000@stockeycentre.com
SUMMARY:Art Classes & Wine Glasses
DESCRIPTION:With Artist Instructor Melissa Beasley\nNo experience required! Come out and unwind with a glass of wine as local artist Melissa Beasley leads the class in an acrylic paint on 12”x16” canvas project. We’ll supply you with the materials needed\, including brushes\, paint\, aprons and canvases. Please arrive a few minutes early to secure your seats\, as painting will begin at 6:30 PM. \nOne glass of wine is included in the price of admission. Additional drinks will be available at our cash bar. Outside food and drink are not allowed – NO BYOB. This is a 19+ only event – all participants will be required to provide photo I.D. \nTickets for this event are only $29.95 +HST. There are only 20 seats available\, so act fast! \nAbout the Artist Instructor: \nMelissa is a Visual Arts Teacher Parry Sound High School\, and she is passionate about encouraging creativity and critical thinking through the arts.  She focuses on building up skills sequentially to create beautiful art that teaches about the foundations of design while practicing techniques used by the masters. \nHer two favourite quotes about art and education are: “Art is the signature of civilizations”\, and “See the gifts in differences”. \nThe painting for this event:
URL:https://stockeycentre.com/event/art-classes-wine-glasses-6/
LOCATION:The Stockey Centre\, 2 Bay Street\, Parry Sound\, Ontario\, P2A 1S3\, Canada
CATEGORIES:Workshop
ATTACH;FMTTYPE=image/jpeg:https://stockeycentre.com/wp-content/uploads/2018/08/Feb.Painting.ACWG_-e1549384511905.jpg
END:VEVENT
END:VCALENDAR