BEGIN:VCALENDAR
VERSION:2.0
PRODID:-//The Stockey Centre - ECPv6.15.20//NONSGML v1.0//EN
CALSCALE:GREGORIAN
METHOD:PUBLISH
X-ORIGINAL-URL:https://stockeycentre.com
X-WR-CALDESC:Events for The Stockey Centre
REFRESH-INTERVAL;VALUE=DURATION:PT1H
X-Robots-Tag:noindex
X-PUBLISHED-TTL:PT1H
BEGIN:VTIMEZONE
TZID:America/Toronto
BEGIN:DAYLIGHT
TZOFFSETFROM:-0500
TZOFFSETTO:-0400
TZNAME:EDT
DTSTART:20180311T070000
END:DAYLIGHT
BEGIN:STANDARD
TZOFFSETFROM:-0400
TZOFFSETTO:-0500
TZNAME:EST
DTSTART:20181104T060000
END:STANDARD
BEGIN:DAYLIGHT
TZOFFSETFROM:-0500
TZOFFSETTO:-0400
TZNAME:EDT
DTSTART:20190310T070000
END:DAYLIGHT
BEGIN:STANDARD
TZOFFSETFROM:-0400
TZOFFSETTO:-0500
TZNAME:EST
DTSTART:20191103T060000
END:STANDARD
BEGIN:DAYLIGHT
TZOFFSETFROM:-0500
TZOFFSETTO:-0400
TZNAME:EDT
DTSTART:20200308T070000
END:DAYLIGHT
BEGIN:STANDARD
TZOFFSETFROM:-0400
TZOFFSETTO:-0500
TZNAME:EST
DTSTART:20201101T060000
END:STANDARD
END:VTIMEZONE
BEGIN:VEVENT
DTSTART;TZID=America/Toronto:20191102T103000
DTEND;TZID=America/Toronto:20191102T133000
DTSTAMP:20260424T185109
CREATED:20190920T140013Z
LAST-MODIFIED:20190918T182128Z
UID:2304-1572690600-1572701400@stockeycentre.com
SUMMARY:Intermediate 3D Felting Workshop: Sheep Ornament
DESCRIPTION:Join us on November 2 for the intermediate 3D needle felting course from 10:30am to 1:30pm. We will create a small sheep ornament using basic egg shapes & rolls. A variety of different finishing techniques will be explored. \nIncludes all required wool as well as 2 needle felting needles. \nA snack is provided\, but please feel free to bring a lunch.
URL:https://stockeycentre.com/event/intermediate-3d-felting-workshop-sheep-ornament/
LOCATION:The Stockey Centre\, 2 Bay Street\, Parry Sound\, Ontario\, P2A 1S3\, Canada
CATEGORIES:Workshop
ATTACH;FMTTYPE=image/jpeg:https://stockeycentre.com/wp-content/uploads/2019/09/Sheep-Ornament-e1568830689715.jpg
ORGANIZER;CN="The Stockey Centre":MAILTO:info@stockeycentre.com
END:VEVENT
BEGIN:VEVENT
DTSTART;TZID=America/Toronto:20191109T103000
DTEND;TZID=America/Toronto:20191109T143000
DTSTAMP:20260424T185109
CREATED:20190920T140016Z
LAST-MODIFIED:20190918T183408Z
UID:2305-1573295400-1573309800@stockeycentre.com
SUMMARY:Advanced 3D Felting Workshop: Teddy Bear
DESCRIPTION:On November 9 we will explore advanced 3D needle felting from 10:30am to 2:30pm. Techniques to make more intricate shaping is used to create a teddy bear. This is a fast paced session so please bring your patience & a smile to class. \nAll required wool is supplied as well as 2 needle felting needles. \nA snack is provided\, but please feel free to bring a lunch.
URL:https://stockeycentre.com/event/advanced-3d-felting-workshop-teddy-bear/
LOCATION:The Stockey Centre\, 2 Bay Street\, Parry Sound\, Ontario\, P2A 1S3\, Canada
CATEGORIES:Workshop
ATTACH;FMTTYPE=image/jpeg:https://stockeycentre.com/wp-content/uploads/2019/09/Teddy-Bear-e1568831129998.jpg
ORGANIZER;CN="The Stockey Centre":MAILTO:info@stockeycentre.com
END:VEVENT
BEGIN:VEVENT
DTSTART;TZID=America/Toronto:20191112T183000
DTEND;TZID=America/Toronto:20191112T203000
DTSTAMP:20260424T185109
CREATED:20190828T193414Z
LAST-MODIFIED:20190828T193415Z
UID:2189-1573583400-1573590600@stockeycentre.com
SUMMARY:Art Classes & Wine Glasses: Beasley
DESCRIPTION:WITH ARTIST INSTRUCTOR MELISSA BEASLEY\nNo experience required! Come out and unwind with a glass of wine as local artist Melissa Beasley leads the class in an acrylic paint on 12”x16” canvas project. We’ll supply you with the materials needed\, including brushes\, paint\, aprons and canvases. Please arrive a few minutes early to secure your seats\, as painting will begin at 6:30 PM. \nOne glass of wine is included in the price of admission. Additional drinks will be available at our cash bar. Outside food and drink are not allowed – NO BYOB. This is a 19+ only event – all participants will be required to provide photo I.D. \nTickets for this event are only $29.95 +HST. There are only 20 seats available\, so act fast! \nAbout the Artist Instructor: \nMelissa is a Visual Arts Teacher Parry Sound High School\, and she is passionate about encouraging creativity and critical thinking through the arts.  She focuses on building up skills sequentially to create beautiful art that teaches about the foundations of design while practicing techniques used by the masters. \nHer two favourite quotes about art and education are: “Art is the signature of civilizations”\, and “See the gifts in differences”.
URL:https://stockeycentre.com/event/art-classes-wine-glasses-beasley/
LOCATION:The Stockey Centre\, 2 Bay Street\, Parry Sound\, Ontario\, P2A 1S3\, Canada
CATEGORIES:Workshop
ATTACH;FMTTYPE=image/png:https://stockeycentre.com/wp-content/uploads/2018/04/Art-Classes-Wine-Glasses.png
END:VEVENT
BEGIN:VEVENT
DTSTART;TZID=America/Toronto:20191126T183000
DTEND;TZID=America/Toronto:20191126T203000
DTSTAMP:20260424T185109
CREATED:20190828T194806Z
LAST-MODIFIED:20190828T194808Z
UID:2193-1574793000-1574800200@stockeycentre.com
SUMMARY:Art Classes & Wine Glasses: McIntyre
DESCRIPTION:WITH ARTIST INSTRUCTOR ANDREA MCINTYRE\nNo experience required! Come out and unwind with a glass of wine as local artist Andrea McIntyre leads the class in an acrylic paint on 12”x16” canvas project. We’ll supply you with the materials needed\, including brushes\, paint\, aprons and canvases. Please arrive a few minutes early to secure your seats\, as painting will begin at 6:30 PM. \nOne glass of wine is included in the price of admission. Additional drinks will be available at our cash bar. Outside food and drink are not allowed – NO BYOB. This is a 19+ only event – all participants will be required to provide photo I.D. \nTickets for this event are only $29.95 +HST. There are only 20 seats available\, so act fast! \nAbout the Artist Instructor: \nAfter a long hiatus from high school art\, Andrea has begun to include art in her creative expression.  Like her mother\, Fran Rutke\, Andrea likes to try new things and so bounces from medium to medium.  She has yet to decide which is her favourite.  In all her work\, she attempts to focus on beauty\, be it of colour or any of the Creator’s work.  She hopes to grow to channel art from spirit.  Meanwhile\, she studies through workshops and happy little accidents.
URL:https://stockeycentre.com/event/art-classes-wine-glasses-mcintyre-3/
LOCATION:The Stockey Centre\, 2 Bay Street\, Parry Sound\, Ontario\, P2A 1S3\, Canada
CATEGORIES:Workshop
ATTACH;FMTTYPE=image/png:https://stockeycentre.com/wp-content/uploads/2018/04/Art-Classes-Wine-Glasses.png
END:VEVENT
END:VCALENDAR