BEGIN:VCALENDAR
VERSION:2.0
PRODID:-//The Stockey Centre - ECPv6.15.20//NONSGML v1.0//EN
CALSCALE:GREGORIAN
METHOD:PUBLISH
X-WR-CALNAME:The Stockey Centre
X-ORIGINAL-URL:https://stockeycentre.com
X-WR-CALDESC:Events for The Stockey Centre
REFRESH-INTERVAL;VALUE=DURATION:PT1H
X-Robots-Tag:noindex
X-PUBLISHED-TTL:PT1H
BEGIN:VTIMEZONE
TZID:America/Toronto
BEGIN:DAYLIGHT
TZOFFSETFROM:-0500
TZOFFSETTO:-0400
TZNAME:EDT
DTSTART:20200308T070000
END:DAYLIGHT
BEGIN:STANDARD
TZOFFSETFROM:-0400
TZOFFSETTO:-0500
TZNAME:EST
DTSTART:20201101T060000
END:STANDARD
BEGIN:DAYLIGHT
TZOFFSETFROM:-0500
TZOFFSETTO:-0400
TZNAME:EDT
DTSTART:20210314T070000
END:DAYLIGHT
BEGIN:STANDARD
TZOFFSETFROM:-0400
TZOFFSETTO:-0500
TZNAME:EST
DTSTART:20211107T060000
END:STANDARD
BEGIN:DAYLIGHT
TZOFFSETFROM:-0500
TZOFFSETTO:-0400
TZNAME:EDT
DTSTART:20220313T070000
END:DAYLIGHT
BEGIN:STANDARD
TZOFFSETFROM:-0400
TZOFFSETTO:-0500
TZNAME:EST
DTSTART:20221106T060000
END:STANDARD
END:VTIMEZONE
BEGIN:VEVENT
DTSTART;TZID=America/Toronto:20211204T100000
DTEND;TZID=America/Toronto:20211204T100000
DTSTAMP:20260423T084156
CREATED:20211201T165600Z
LAST-MODIFIED:20211204T130209Z
UID:3763-1638612000-1638612000@stockeycentre.com
SUMMARY:Christmas Swag Workshop
DESCRIPTION:Join us at The Stockey Centre on Saturday December 4th to create your own Christmas Swag at 10am! \n\n\n\nMake this beautiful holiday decoration for wherever you’d like to display it this holiday season in this workshop lead by Nadine Triemstra and Bernadette Chisholm. They look great as winter décor for your outdoor porch lights! \n\n\n\nPlease bring: Garden snips or small clippers for trimming branches. \n\n\n\nAn example of a Christmas Swag Decoration can be found at: https://inmyownstyle.com/diy-christmas-porch-light-decoration.html \n\n\n\nThis workshop is limited to 15 participants. Spaces are $30+HST per participant. Coffee and tea will be available. \n\n\n\nFor full details of the COVID-19 health protocols that will be in place at the Stockey Centre for this event\, please visit our Safety Guidelines page. \n\n\n\nEffective September 22nd\, 2021\, the Stockey Centre is required to have a Vaccine Certificate Protocol in place for all events occurring at the Stockey Centre\, as per the Province of Ontario’s Proof of Vaccination Mandate. The protocol is attached for your consideration: The Charles W. Stockey Centre’s Vaccine Certificate Protocol [PDF]. We are required to check your Vaccination Receipt along with Proof of Identity when you arrive at the facility. \n\n\n\nBUY TICKETS ONLINE HERE
URL:https://stockeycentre.com/event/christmas-swag-workshop/
LOCATION:Ontario
CATEGORIES:Workshop
ATTACH;FMTTYPE=image/png:https://stockeycentre.com/wp-content/uploads/2021/11/Email-Headers.png
ORGANIZER;CN="The Stockey Centre":MAILTO:info@stockeycentre.com
END:VEVENT
END:VCALENDAR